BEGIN:VCALENDAR
PRODID:-//Microsoft Corporation//Outlook 12.0 MIMEDIR//EN
VERSION:2.0
METHOD:PUBLISH
X-MS-OLK-FORCEINSPECTOROPEN:TRUE
BEGIN:VEVENT
CLASS:PUBLIC
CREATED:20260419T195926Z
DESCRIPTION:El próximo jueves 9 de julio, entre las 16h y las 18h30 (hora Madrid), se celebrará el Global Fintech Investor Day, un evento internacional que conecta inversores y empresas de alto potencial del sector fintech. En el encuentro, que se desarrollará por videoconferencia, cada startup seleccionada presentará su negocio ante un panel de inversores y una audiencia global. Se contemplan, asimismo, reuniones privadas entre las startups y los inversores interesados.\n La agenda del evento es la siguiente:\n \n16.00-16.10 horas: Bienvenida\n \n- Ignacio Villoch, Open Innovation Senior Ecosystem Builder de BBVA\n- Yael H. Oaknin, CEO de Adventurees\n \n16.15-16.30 horas: Redifining Banking in an Open Era\n \n- Carlos López Moctezuma, Global Head New Business Models, Open Banking and Innovation en BBVA\n \n16.30-17.15 horas: Startup Pitchs I\n \n- Gabriel Ayala, fundador de Suscrip\n- Óscar Anzola, fundador de WayApp Pay\n- Miguel Camiña, cofundador de MiCappital\n- Antoni Guitart, Fundador y CEO de Billage\n \n- Comité Inversor:\nDavid Lozano, CEO de Afterbanks;\nJavier Smith, CEO de ET Institute y How to do Business in the US;\nIgnacio Loscos, experto en estrategia digital y angel investor\nGonzalo Tradacete, Managing Partner at Faraday Venture Partners\nSebastián Gonzalez, Director at Chilean Venture Capital Association & Wayra Chile\nJorge Barón, Investment Analyst at Adara Ventures\n \n17.15-17.45 horas: Investing in Fintech. Trends, Opportunities & Challenges\n \n- César Bardají, Angel Investor\n- Merce Tell, Managing Partner en Nekko Capital\n- Arturo González, Vicepresidente de la Asociación Española de Fintech e Insurtech y CEO de Eurobits\n- Luis Ilizaliturri, VP Banking & Financial en Softtek\n- Pedro Antón, Angel Investor y Board Member\n \n17.45-18.25 horas: Startup Pitchs II\n \n- Lorena Guerrero, VP Sales en WhenWhyHow\n- Enrique de Nova, CEO de Loonfy\n- Miguel Rangel, CFO de Invisible Collector\n- Alejandro Villalonga, CEO de Lendmarket\n \n- Comité Inversor:\nPedro Antón, Angel Investor y Board Member;\nPablo Solana, CEO de ATI Consult y Angel Investor;\nGuillermo Prieto, COO de Adventurees y Angel Investor;\nJavier Mera, socio director de Linx Capital y CEO de Barcelona Mortgage Servicing\nBen Banerjee, President at SIIA & Senator for Switzerland at World Business Angel Investment Forum\nPilar Gomez, Investment Director at Fides Capital\n \n18.25 -18.30 horas: Clausura. \n
DTSTART:20200709T160000
DTEND:20200709T183000
DTSTAMP:20260419T195926Z
LOCATION:Online
PRIORITY:5
SEQUENCE:0
SUMMARY;LANGUAGE=es-es:Tecnowebinars.com - :: Global Fintech Investor Day de BBVA
TRANSP:OPAQUE
UID:79f562b9d81fde225e30765b554a8a0b Tecnowebinars.com
X-MICROSOFT-CDO-BUSYSTATUS:BUSY
X-MICROSOFT-CDO-IMPORTANCE:1
X-MICROSOFT-DISALLOW-COUNTER:FALSE
X-MS-OLK-ALLOWEXTERNCHECK:TRUE
X-MS-OLK-AUTOFILLLOCATION:FALSE
X-MS-OLK-CONFTYPE:0
BEGIN:VALARM
TRIGGER:-PT1440M
ACTION:DISPLAY
DESCRIPTION:Reminder
END:VALARM
END:VEVENT
END:VCALENDAR
