BEGIN:VCALENDAR
PRODID:-//Microsoft Corporation//Outlook 12.0 MIMEDIR//EN
VERSION:2.0
METHOD:PUBLISH
X-MS-OLK-FORCEINSPECTOROPEN:TRUE
BEGIN:VEVENT
CLASS:PUBLIC
CREATED:20260419T201109Z
DESCRIPTION:DCS-9500T es una solución completa que incluye una cámara termográfica, un calibrador Blackbody y una suite de software integral para el control de la temperatura corporal de grupos de hasta 30 personas simultáneamente con alarma instantánea cuando detecta fiebre e integración con sistemas ONVIF, CGI y soporte SDK.\nSolución completa de control de accesos\nKit que incluye la cámara termográfica, el calibrador blackbody, los soportes y el software CMS de gestión.\nMedición simultánea de hasta 30 personas\nEscanea la temperatura corporal de hasta 30 personas simultáneamente con tiempo de respuesta ínfimo y precisión de +-0,3Cº. \nIntegración flexible\nSoporta Power Over Ethernet (PoE) y el estándar ONVIF para su integración en sistemas de videovigilancia y seguridad.\nCaracterísticas del pack:\nAlgoritmo de medición de temperatura corporal integrado\nSeguimiento simultáneo de hasta 30 personas\nSensibililidad 40mK\nSensor CMOS Progresivo de Sony de 2 Megapíxeles\nLente térmica de 8mm\nSensor térmico Uncooled IRFPA Microbolometer\nPrecisión ≤0.3°C 2 alarmas digitales para alertas por temperaturaTiempo de respuesta ≤30ms\nCalibrador Blackbody para el ajuste de la cámara termográfica a las condiciones medioambientales y proporcionar la máxima precisión en el control de temperatura corporal, minimizando la incidencia de la temperatura ambiental en la lectura.\nLentes ópticas motorizadas 2.7-12mm\nAmplio rango dinámico (WDR)\nH.265, H.265, MJPEG\nCarcasa resistente con certificación IP66\nCámara termográfica compatible con PoE y ONVIF.\nAgenda:\n- Presentación de la solución completa: cámara termográfica, black body (calibrador), accesorios montaje y software de gestión avanzado.\n- Go to Market y entornos más adecuados\n- Gestión de reconocimiento de temperatura corporal en grupos con precisión +-0,3ºC\n- Funciones avanzadas de imagen IA con reconocimiento facial y conexión a alarmas y sistemas ONVIF\n \n
DTSTART:20200703T123000
DTEND:20200703T133000
DTSTAMP:20260419T201109Z
LOCATION:Online
PRIORITY:5
SEQUENCE:0
SUMMARY;LANGUAGE=es-es:Tecnowebinars.com - :: Kit de Cámara termográfica y Black Body para control de temperatura en grupo
TRANSP:OPAQUE
UID:d676f171bb1a394a5b71b20d4e847e39 Tecnowebinars.com
X-MICROSOFT-CDO-BUSYSTATUS:BUSY
X-MICROSOFT-CDO-IMPORTANCE:1
X-MICROSOFT-DISALLOW-COUNTER:FALSE
X-MS-OLK-ALLOWEXTERNCHECK:TRUE
X-MS-OLK-AUTOFILLLOCATION:FALSE
X-MS-OLK-CONFTYPE:0
BEGIN:VALARM
TRIGGER:-PT1440M
ACTION:DISPLAY
DESCRIPTION:Reminder
END:VALARM
END:VEVENT
END:VCALENDAR
