BEGIN:VCALENDAR
PRODID:-//Microsoft Corporation//Outlook 12.0 MIMEDIR//EN
VERSION:2.0
METHOD:PUBLISH
X-MS-OLK-FORCEINSPECTOROPEN:TRUE
BEGIN:VEVENT
CLASS:PUBLIC
CREATED:20260419T200808Z
DESCRIPTION:El nuevo E-Loop es la solución más innovadora en electromovilidad. Nuestro cargador inteligente bidireccional E-Loop no sólo optimiza los tiempos de carga sino que se convierte en un gestor eléctrico de ida y vuelta, aportando energía tanto para el coche como para el hogar y la red.\n \nDescúbrelo a fondo en el próximo webinar.\n \nLa nueva generación de cargadores inteligentes para vehículos eléctricos.\n
DTSTART:20200702T160000
DTEND:20200702T170000
DTSTAMP:20260419T200808Z
LOCATION:Online
PRIORITY:5
SEQUENCE:0
SUMMARY;LANGUAGE=es-es:Tecnowebinars.com - :: Ampere E-Loop: La nueva generación de cargadores inteligentes para vehículo eléctrico
TRANSP:OPAQUE
UID:b0bffd5c399f0f102927990b177822d4 Tecnowebinars.com
X-MICROSOFT-CDO-BUSYSTATUS:BUSY
X-MICROSOFT-CDO-IMPORTANCE:1
X-MICROSOFT-DISALLOW-COUNTER:FALSE
X-MS-OLK-ALLOWEXTERNCHECK:TRUE
X-MS-OLK-AUTOFILLLOCATION:FALSE
X-MS-OLK-CONFTYPE:0
BEGIN:VALARM
TRIGGER:-PT1440M
ACTION:DISPLAY
DESCRIPTION:Reminder
END:VALARM
END:VEVENT
END:VCALENDAR
