BEGIN:VCALENDAR
PRODID:-//Microsoft Corporation//Outlook 12.0 MIMEDIR//EN
VERSION:2.0
METHOD:PUBLISH
X-MS-OLK-FORCEINSPECTOROPEN:TRUE
BEGIN:VEVENT
CLASS:PUBLIC
CREATED:20260419T200950Z
DESCRIPTION:Discover how to extend your ERP with QAD’s No-Code or Low-Code functionality without the restraints of customization. You will learn how you can automate your supplier scheduling agreements with QAD Adaptive ERP without customizations - with low code / no code extensibility and built-in workflow.\nThis webinar, part of our webinar series, will show you in 30 minutes how QAD’s No-Code or Low-Code can: \n- Rapidly extend your existing QAD system and respond to change\n- Create new applications and functionality within days\n- Generate faster benefits for your business\n- Support new business processes and remove barriers to Industry 4.0.\n
DTSTART:20200709T163000
DTEND:20200709T170000
DTSTAMP:20260419T200950Z
LOCATION:Online
PRIORITY:5
SEQUENCE:0
SUMMARY;LANGUAGE=es-es:Tecnowebinars.com - :: QAD ERP: creación de aplicaciones y extensiones Low Code
TRANSP:OPAQUE
UID:4031dd554da0565ab749e8661c6ac032 Tecnowebinars.com
X-MICROSOFT-CDO-BUSYSTATUS:BUSY
X-MICROSOFT-CDO-IMPORTANCE:1
X-MICROSOFT-DISALLOW-COUNTER:FALSE
X-MS-OLK-ALLOWEXTERNCHECK:TRUE
X-MS-OLK-AUTOFILLLOCATION:FALSE
X-MS-OLK-CONFTYPE:0
BEGIN:VALARM
TRIGGER:-PT1440M
ACTION:DISPLAY
DESCRIPTION:Reminder
END:VALARM
END:VEVENT
END:VCALENDAR
