BEGIN:VCALENDAR
PRODID:-//Microsoft Corporation//Outlook 12.0 MIMEDIR//EN
VERSION:2.0
METHOD:PUBLISH
X-MS-OLK-FORCEINSPECTOROPEN:TRUE
BEGIN:VEVENT
CLASS:PUBLIC
CREATED:20260419T185438Z
DESCRIPTION:The current state of the world has sent many organizations scrambling to find solutions to gaps exposed during the COVID-19 pandemic.\nRisk Management and Business Continuity can no longer be items that are disregarded and put off for another day. Understanding your organization's level of exposure is critical to survival in the next major business disruption.\nJoin us on July 28 at 10:00 am PDT as QAD’s Mike Kolias and Dave Medina discuss:\n•  The current state of the Medical Device industry\n•  Overview of Risk Management and Business Continuity\n•  Why Risk Management and Business Continuity planning is critical right now\n•  How to manage through the current crisis and prepare for the next business disruption \n \n
DTSTART:20200728T190000
DTEND:20200728T200000
DTSTAMP:20260419T185438Z
LOCATION:Online
PRIORITY:5
SEQUENCE:0
SUMMARY;LANGUAGE=es-es:Tecnowebinars.com - :: Continuidad de negocio y Gestión de riesgos Post- Covid en la industria de los dispositivos médicos
TRANSP:OPAQUE
UID:886205cdaa68c4f71bb59e2be648574a Tecnowebinars.com
X-MICROSOFT-CDO-BUSYSTATUS:BUSY
X-MICROSOFT-CDO-IMPORTANCE:1
X-MICROSOFT-DISALLOW-COUNTER:FALSE
X-MS-OLK-ALLOWEXTERNCHECK:TRUE
X-MS-OLK-AUTOFILLLOCATION:FALSE
X-MS-OLK-CONFTYPE:0
BEGIN:VALARM
TRIGGER:-PT1440M
ACTION:DISPLAY
DESCRIPTION:Reminder
END:VALARM
END:VEVENT
END:VCALENDAR
