BEGIN:VCALENDAR
PRODID:-//Microsoft Corporation//Outlook 12.0 MIMEDIR//EN
VERSION:2.0
METHOD:PUBLISH
X-MS-OLK-FORCEINSPECTOROPEN:TRUE
BEGIN:VEVENT
CLASS:PUBLIC
CREATED:20260419T201032Z
DESCRIPTION:The hidden cost of quality can be as much as 40% of the operational cost to a packaging manufacturer. Many costs of quality appear late in the product development cycle after the issue has increased in severity and impact. Organizations that use a comprehensive approach to prevent quality issues and standardize quality processes across the organization considerably reduce the hidden cost of quality.\nJoin us for a 30-minute webinar on July 23 at 10:00 am CDT where quality and ERP experts Jim Steventon, Peter Jones and Jim Schumar discuss how you can identify and reduce the hidden cost of quality.\n \n \n \n
DTSTART:20200723T170000
DTEND:20200723T173000
DTSTAMP:20260419T201032Z
LOCATION:Online
PRIORITY:5
SEQUENCE:0
SUMMARY;LANGUAGE=es-es:Tecnowebinars.com - :: Calidad en la Producción: ahorrate un 40% anteponiéndote a los problemas
TRANSP:OPAQUE
UID:75da742f4414890738e9a203d2e1c71f Tecnowebinars.com
X-MICROSOFT-CDO-BUSYSTATUS:BUSY
X-MICROSOFT-CDO-IMPORTANCE:1
X-MICROSOFT-DISALLOW-COUNTER:FALSE
X-MS-OLK-ALLOWEXTERNCHECK:TRUE
X-MS-OLK-AUTOFILLLOCATION:FALSE
X-MS-OLK-CONFTYPE:0
BEGIN:VALARM
TRIGGER:-PT1440M
ACTION:DISPLAY
DESCRIPTION:Reminder
END:VALARM
END:VEVENT
END:VCALENDAR
