BEGIN:VCALENDAR
PRODID:-//Microsoft Corporation//Outlook 12.0 MIMEDIR//EN
VERSION:2.0
METHOD:PUBLISH
X-MS-OLK-FORCEINSPECTOROPEN:TRUE
BEGIN:VEVENT
CLASS:PUBLIC
CREATED:20260419T195925Z
DESCRIPTION:Over the last decade, packaging manufacturers have done a good job of embracing two of the 5Rs of sustainability —reducing and reformatting. Despite the progress, the sustainability scales tip heavily downward with increasing operational costs. Managing costs while keeping sustainability goals is the real challenge, as this will surely lead to business advantages in the long term.\n \nJoin us for a 30-minute webinar on July 16 at 10:00 am CDT where QAD's VP of Packaging, Acyr Borges, and ERP expert, Jim Schumar, discuss the sustainability practices that will increase operational efficiency, reduce costs and resources, and build a respected sustainability reputation with packaging manufacturers' customers and consumers.\n
DTSTART:20200716T170000
DTEND:20200716T173000
DTSTAMP:20260419T195925Z
LOCATION:Online
PRIORITY:5
SEQUENCE:0
SUMMARY;LANGUAGE=es-es:Tecnowebinars.com - :: QAD: ERP para la industria del packaging
TRANSP:OPAQUE
UID:24208ec065e7d86239037ddb7441b2c2 Tecnowebinars.com
X-MICROSOFT-CDO-BUSYSTATUS:BUSY
X-MICROSOFT-CDO-IMPORTANCE:1
X-MICROSOFT-DISALLOW-COUNTER:FALSE
X-MS-OLK-ALLOWEXTERNCHECK:TRUE
X-MS-OLK-AUTOFILLLOCATION:FALSE
X-MS-OLK-CONFTYPE:0
BEGIN:VALARM
TRIGGER:-PT1440M
ACTION:DISPLAY
DESCRIPTION:Reminder
END:VALARM
END:VEVENT
END:VCALENDAR
