BEGIN:VCALENDAR
PRODID:-//Microsoft Corporation//Outlook 12.0 MIMEDIR//EN
VERSION:2.0
METHOD:PUBLISH
X-MS-OLK-FORCEINSPECTOROPEN:TRUE
BEGIN:VEVENT
CLASS:PUBLIC
CREATED:20260419T200806Z
DESCRIPTION:Se acaba de aprobar un nuevo Texto Refundido de la Ley Concursal que entra en vigor próximamente y es una buena oportunidad para ponerse al día sobre las implicaciones del Concurso de Acreedores, tanto para deudores, acreedores, contratos, créditos, etc.\nEn este curso hacemos un repaso sintético de los aspectos de esta legislación que debe conocerse en la empresa, sobre todo teniendo en cuenta la mayor casuística que por la crisis económica actual va a producirse y que puede afectar a clientes, proveedores y demás empresas con las que nos estemos relacionando.\nDIRIGIDO A:\nDirectivos y personal de la empresa involucrado en las cuestiones económicas y legales que puedan verse afectadas por el concurso de acreedores de clientes, proveedores y otras compañías con las que se relacionan.\nOBJETIVOS:\nConocer las características principales del concuso de acreedores.\nAnalizar cómo influye el concurso en el deudor.\nDistinguir los efectos del concurso sobre ejecuciones, contratos y créditos.\nConocer que es la masa activa y la clasificación de créditos.\nAnalizar el convenio.\nConocer incidentes, liquidación, venta de la unidad productiva, etc.\nPROGRAMA\n          Solicitud y declaración de concurso.\n- Presupuestos de la declaración de concurso\n- La legitimación para instar el concurso\n            El administrador concursal.\n- Composición y nombramiento de la administración concursal\n- Principales funciones de la administración concursal\n- Retribución del administrador concursal.\n \n\n           Efectos del concurso sobre el deudor.\n\n \n- Efectos de la declaración del concurso sobre el deudor.\n         Efectos del concurso sobre las ejecuciones.\n- Ejecuciones y apremios singulares en el concurso de acreedores\n- Ejecuciones de garantías reales en el concurso.\n- Efectos de la apertura de la fase de liquidación de la masa activa sobre las ejecuciones de garantías reales\n            Efectos del concurso sobre los contratos y los créditos.\nLa masa activa.\n1- Masa pasiva.\n2- De la composición de la masa activa\nLa clasificación de los créditos.\n- Créditos contra la masa y créditos concursales: distinción.\n- Créditos contra la masa\n- Créditos concursales\n- La ejecución de créditos contra la masa. el cobro tras la aprobación del convenio\nIncidentes concursales.\nEl convenio.\n- La propuesta de convenio\n- El plan de pagos y el plan de viabilidad.\n- Mayorías y oposición\n- Eficacia.\n- Levantamiento de embargos\nLiquidación.\nVenta de la unidad productiva.\nCalificación.\nLa conclusión del concurso y el beneficio del pasivo insatisfecho..\nDerecho preconcursal.\nEl ponente:\nSergio Becerra Corrales. Abogado del Ilustre Colegio de Abogados de Madrid. Administrador concursal. Socio Director de la Compañía de Servicios Jurídicos INTERLEGAL. Consejero Delegado de la compañía Como Cobrar, S.L. Más de diez años de experiencia en gestión de cobros judiciales y extrajudiciales. Ha desarrollado e impartido programas de formación sobre temas de Gestión de Cobros y Prevención de Impagados a empresas líderes en el mercado como son: Canal de Isabel II, LG Electronic, Bettor MBT, Goldwell, Hotusa, Indas, Metrovacesa, Ofiservice, Schweppes, Telefónica Publicidad e Información, Grupo Barceló, …\nDías y horario: 7 de julio de 2020. 8:30 a 14:30 horas. 6 horas en directo, más grabación en aula virtual. 100% Bonificable*\nWebinar en directo: retransmisión en directo a través del aula virtual de ESIFF, en la que se colgará la presentación del ponente y será accesible material adicional. Se puede interactuar con el ponente realizando preguntas que serán contestadas en directo. Acceso al vídeo, audio y presentación de la sesión, así como a la grabación del curso que podrá verse en días posteriores.\nPrecio de inscripción: 150 €\n(Exento de IVA según el art. 20.1.9º de la Ley 37/1992, de 28 de diciembre.)\nEl pago se realizará en todo caso a la formalización de la inscripción. El aforo total del curso está limitado.\nEl curso es bonificable al 100%*, para lo que habrá que seguir el curso y lo requerido en el aula virtual. Podemos elaborar la documentación de la bonificación sin coste adicional si lo solicita en el boletín de inscripción.\nSe entregará la documentación manejada por el ponente a través del aula virtual.\n \nTambién in-company:\nTanto este curso, adaptado a su horario y necesidades, como cualquier otro tema que precise, podemos impartirlo en su empresa de forma personalizada por webinar o presencialmente cuando sea posible. Háganos saber sus necesidades de formación y le realizaremos un programa y presupuesto a su medida.\nPor favor, para realizar la inscripción descargue el boletín en PDF del botón naranja más abajo (solicitud de inscripción) y remítalo cumplimentado por correo electrónico a contacto@esiff.com.\n* La bonificación se aplicará según lo establecido por la Fundación Estatal para la Formación en el Empleo.\n \n \n
DTSTART:20200707T083000
DTEND:20200707T143000
DTSTAMP:20260419T200806Z
LOCATION:Online
PRIORITY:5
SEQUENCE:0
SUMMARY;LANGUAGE=es-es:Tecnowebinars.com - :: Curso online sobre Nueva Ley Concursal (De pago)
TRANSP:OPAQUE
UID:7a1fde29ceb096f431568cd48283fd5c Tecnowebinars.com
X-MICROSOFT-CDO-BUSYSTATUS:BUSY
X-MICROSOFT-CDO-IMPORTANCE:1
X-MICROSOFT-DISALLOW-COUNTER:FALSE
X-MS-OLK-ALLOWEXTERNCHECK:TRUE
X-MS-OLK-AUTOFILLLOCATION:FALSE
X-MS-OLK-CONFTYPE:0
BEGIN:VALARM
TRIGGER:-PT1440M
ACTION:DISPLAY
DESCRIPTION:Reminder
END:VALARM
END:VEVENT
END:VCALENDAR
