BEGIN:VCALENDAR
PRODID:-//Microsoft Corporation//Outlook 12.0 MIMEDIR//EN
VERSION:2.0
METHOD:PUBLISH
X-MS-OLK-FORCEINSPECTOROPEN:TRUE
BEGIN:VEVENT
CLASS:PUBLIC
CREATED:20260419T200939Z
DESCRIPTION:What are industries and companies doing to transform a traditional value chain into an integrated product and production lifecycle? Only a fully digitalized business model with a consistent digital thread has the power and flexibility to speed up processes and optimize production operations.\n \nGlobal competition is making companies invest in digitalization to meet business and customer demands\n \n- Product complexity is growing\n- Software within products is increasing\n- Smart “intelligent” products are becoming the norm\n- Faster consumption of technologies into business operations\n- Self-Service via “citizen” IT, developer, data scientist,… driving superior user experiences\n \nCompanies are exploring how to leverage existing product models, such as CAD, CAE, simulation, and others, to build virtual models of their products that are representable in cloud-based IIoT environments.\n \n
DTSTART:20200709T200000
DTEND:20200709T203000
DTSTAMP:20260419T200939Z
LOCATION:Online
PRIORITY:5
SEQUENCE:0
SUMMARY;LANGUAGE=es-es:Tecnowebinars.com - :: Modelos virtuales de productos industriales en el Cloud con Siemens
TRANSP:OPAQUE
UID:44232f4982d6ea212e72301cf220f481 Tecnowebinars.com
X-MICROSOFT-CDO-BUSYSTATUS:BUSY
X-MICROSOFT-CDO-IMPORTANCE:1
X-MICROSOFT-DISALLOW-COUNTER:FALSE
X-MS-OLK-ALLOWEXTERNCHECK:TRUE
X-MS-OLK-AUTOFILLLOCATION:FALSE
X-MS-OLK-CONFTYPE:0
BEGIN:VALARM
TRIGGER:-PT1440M
ACTION:DISPLAY
DESCRIPTION:Reminder
END:VALARM
END:VEVENT
END:VCALENDAR
