BEGIN:VCALENDAR
PRODID:-//Microsoft Corporation//Outlook 12.0 MIMEDIR//EN
VERSION:2.0
METHOD:PUBLISH
X-MS-OLK-FORCEINSPECTOROPEN:TRUE
BEGIN:VEVENT
CLASS:PUBLIC
CREATED:20260419T201031Z
DESCRIPTION:VER VIDEO\nSoluciones como IBM Worker Insights combinan las tecnologías de vanguardia como Inteligencia Artificial, IoT, Analytics y Machine Learning para crear ambientes seguros para las personas en un contexto post-pandemia en el que el mundo y, por ende, las industrias, no serán las mismas.\nVamos a comentar cómo las herramientas existentes se reconviernten y se les da un propósito específico, a la hora de enfrentarnos a nuevos procedimientos y reglamentaciones de seguridad e higiene.\nEsta solución ayuda a obtener información casi en tiempo real de los lugares de trabajo y los empleados. Podrá hacer monitoreo de la temperatura corporal, administrar la ocupación y las zonas prohibidas, y facilitar el distanciamiento social de los empleados y el seguimiento de eventos, al tiempo que garantiza la privacidad de los empleados.\nVER VIDEO\n
DTSTART:20200713T160000
DTEND:20200713T170000
DTSTAMP:20260419T201031Z
LOCATION:Online
PRIORITY:5
SEQUENCE:0
SUMMARY;LANGUAGE=es-es:Tecnowebinars.com - :: Seguridad Post Covid en los centros de trabajo con IBM Worker Insights
TRANSP:OPAQUE
UID:f7d5e871553a1501c0ddfd630909d94c Tecnowebinars.com
X-MICROSOFT-CDO-BUSYSTATUS:BUSY
X-MICROSOFT-CDO-IMPORTANCE:1
X-MICROSOFT-DISALLOW-COUNTER:FALSE
X-MS-OLK-ALLOWEXTERNCHECK:TRUE
X-MS-OLK-AUTOFILLLOCATION:FALSE
X-MS-OLK-CONFTYPE:0
BEGIN:VALARM
TRIGGER:-PT1440M
ACTION:DISPLAY
DESCRIPTION:Reminder
END:VALARM
END:VEVENT
END:VCALENDAR
