BEGIN:VCALENDAR
PRODID:-//Microsoft Corporation//Outlook 12.0 MIMEDIR//EN
VERSION:2.0
METHOD:PUBLISH
X-MS-OLK-FORCEINSPECTOROPEN:TRUE
BEGIN:VEVENT
CLASS:PUBLIC
CREATED:20260419T200939Z
DESCRIPTION:VER VIDEO \n \nEl análisis del lenguaje permite entender al consumidor y segmentarlo desde una nueva perspectiva, no solamente vinculada a sus características como potencial cliente sino también a sus emociones, situaciones vitales o necesidades del momento. \nNo hay que limitar la segmentación de audiencias a datos clásicos como la edad, sexo, localización, etc…\n \nHoy podemos identificar momentos de compra o emociones en los consumidores a partir del análisis de lo que publica en las Redes Sociales, de las interacciones y comunicaciones con la empresa (email, transcripción de call centers) o de lo que responde en encuestas y estudios de mercado.\n \nSéntisis es una compañía de Inteligencia Artificial que se dedica a la compresión de cualquier tipo de texto escrito extrayendo insights de carácter accionable. Categorizamos la información de manera automática eliminando procesos manuales y tiempo de taggeo de la información.\n \nActualmente Séntisis trabaja con datos de diferentes fuentes tales como redes sociales,encuestas o transcripción de llamadas de voz a texto; de cualquier industria y sector y adaptando los proyectos a las necesidades del cliente.\n \nDesde 2012 hemos trabajado con más de 100 grandes cuentas (por ejemplo: Banco Santander, Heineken, Vodafone, ICEX o Adidas) y tenemos presencia en España, México, Colombia y Chile.\n \nEn este webinar se hará una demostración práctica de cómo funciona la herramienta con diferentes casos de uso.\nVER VIDEO \n
DTSTART:20200715T160000
DTEND:20200715T170000
DTSTAMP:20260419T200939Z
LOCATION:Online
PRIORITY:5
SEQUENCE:0
SUMMARY;LANGUAGE=es-es:Tecnowebinars.com - :: IA para descubrir qué quiere comprar el consumidor y cómo nos cuenta en RRSS lo que necesita
TRANSP:OPAQUE
UID:4a801c81050e6397edc9f9e9d75d12ec Tecnowebinars.com
X-MICROSOFT-CDO-BUSYSTATUS:BUSY
X-MICROSOFT-CDO-IMPORTANCE:1
X-MICROSOFT-DISALLOW-COUNTER:FALSE
X-MS-OLK-ALLOWEXTERNCHECK:TRUE
X-MS-OLK-AUTOFILLLOCATION:FALSE
X-MS-OLK-CONFTYPE:0
BEGIN:VALARM
TRIGGER:-PT1440M
ACTION:DISPLAY
DESCRIPTION:Reminder
END:VALARM
END:VEVENT
END:VCALENDAR
