BEGIN:VCALENDAR
PRODID:-//Microsoft Corporation//Outlook 12.0 MIMEDIR//EN
VERSION:2.0
METHOD:PUBLISH
X-MS-OLK-FORCEINSPECTOROPEN:TRUE
BEGIN:VEVENT
CLASS:PUBLIC
CREATED:20260419T213647Z
DESCRIPTION:Production agility is even more important in the “new normal.” Attend this webinar if you’re interested in how modern digital technologies can help you:\n \n• Drive faster changeovers\n• Deliver end-to-end traceability and visibility\n• Ensure compliance with regulations\n• Achieve uncompromising quality using a Lean approach\n \nIn this webinar, you’ll learn how to leverage technologies to empower your workforce, reduce variability and increase efficiency – based on real-world examples from major producers. Also, discover why modern MES that spans mixed-manufacturing environments is the right solution and what to look for when choosing it.\nEl speaker:\n \nJoe Gerstl\nDirector, Digital Product Management for MES\nGE Digital\n \nJoe Gerstl is the Director of Product Management for GE Digital’s Manufacturing Software. He has worked in the software industry and in manufacturing for over 30 years spending time in various roles including engineering, sales and product management while working at leading companies such as Microsoft and now GE Digital. \n
DTSTART:20200623T170000
DTEND:20200623T180000
DTSTAMP:20260419T213647Z
LOCATION:Online
PRIORITY:5
SEQUENCE:0
SUMMARY;LANGUAGE=es-es:Tecnowebinars.com - :: Struggling to Achieve Production Agility and RFTQ (Right First Time Quality)?
TRANSP:OPAQUE
UID:1d749ff1a71c4dd579b3bd9a128ba653 Tecnowebinars.com
X-MICROSOFT-CDO-BUSYSTATUS:BUSY
X-MICROSOFT-CDO-IMPORTANCE:1
X-MICROSOFT-DISALLOW-COUNTER:FALSE
X-MS-OLK-ALLOWEXTERNCHECK:TRUE
X-MS-OLK-AUTOFILLLOCATION:FALSE
X-MS-OLK-CONFTYPE:0
BEGIN:VALARM
TRIGGER:-PT1440M
ACTION:DISPLAY
DESCRIPTION:Reminder
END:VALARM
END:VEVENT
END:VCALENDAR
