BEGIN:VCALENDAR
PRODID:-//Microsoft Corporation//Outlook 12.0 MIMEDIR//EN
VERSION:2.0
METHOD:PUBLISH
X-MS-OLK-FORCEINSPECTOROPEN:TRUE
BEGIN:VEVENT
CLASS:PUBLIC
CREATED:20260419T195926Z
DESCRIPTION: Deep Learning machine vision has the potential to radically change manufacturing quality inspection.\nAlthough it's a critical component of most Industry 4.0 plans, many companies are struggling to deploy their first project successfully. Is deep learning just hype, or are there practical strategies for integrating it in production?\n \nIn this webinar, our expert presenter will share Cognex's experiences in successfully deploying deep learning machine vision on the factory floor, including:\n \n- Return on Investment\n- Picking the right first project\n- Prototyping and optimization\n- Validating for production\n- What comes next?\n
DTSTART:20200630T000000
DTEND:20200630T000000
DTSTAMP:20260419T195926Z
LOCATION:Online
PRIORITY:5
SEQUENCE:0
SUMMARY;LANGUAGE=es-es:Tecnowebinars.com - :: Deep Learning Machine Vision: 5 pasos para implementarlo
TRANSP:OPAQUE
UID:123b117f8d8c583a0810c5dd742a1c01 Tecnowebinars.com
X-MICROSOFT-CDO-BUSYSTATUS:BUSY
X-MICROSOFT-CDO-IMPORTANCE:1
X-MICROSOFT-DISALLOW-COUNTER:FALSE
X-MS-OLK-ALLOWEXTERNCHECK:TRUE
X-MS-OLK-AUTOFILLLOCATION:FALSE
X-MS-OLK-CONFTYPE:0
BEGIN:VALARM
TRIGGER:-PT1440M
ACTION:DISPLAY
DESCRIPTION:Reminder
END:VALARM
END:VEVENT
END:VCALENDAR
