BEGIN:VCALENDAR
PRODID:-//Microsoft Corporation//Outlook 12.0 MIMEDIR//EN
VERSION:2.0
METHOD:PUBLISH
X-MS-OLK-FORCEINSPECTOROPEN:TRUE
BEGIN:VEVENT
CLASS:PUBLIC
CREATED:20260419T213631Z
DESCRIPTION:Microsoft Power Platform es un conjunto de herramientas para la creación "Low Code" de aplicaciones compuesta por: Power BI, PowerApps, PowerAutomate y Power Virtual Agents.\nPermite el desarrollo de aplicaciones por parte de usuarios de negocio en plataforma web y móvil. Las aplicaciones pueden ser de diferente tipo: tanto analíticas como de automatización de procesos. \nPermite conectar con diferentes bases de datos proporcionando seguridad para el usuario y los datos.\nVea aquí un video presentación de Microsoft Power Platform y del webinar realizado por el ponente del webinar. \n
DTSTART:20200630T100000
DTEND:20200630T103000
DTSTAMP:20260419T213631Z
LOCATION:Online
PRIORITY:5
SEQUENCE:0
SUMMARY;LANGUAGE=es-es:Tecnowebinars.com - :: Microsoft Power Platform: creación de aplicaciones Low Code para usuarios de negocio
TRANSP:OPAQUE
UID:2636eb54bd57780f5662a7253b8f9942 Tecnowebinars.com
X-MICROSOFT-CDO-BUSYSTATUS:BUSY
X-MICROSOFT-CDO-IMPORTANCE:1
X-MICROSOFT-DISALLOW-COUNTER:FALSE
X-MS-OLK-ALLOWEXTERNCHECK:TRUE
X-MS-OLK-AUTOFILLLOCATION:FALSE
X-MS-OLK-CONFTYPE:0
BEGIN:VALARM
TRIGGER:-PT1440M
ACTION:DISPLAY
DESCRIPTION:Reminder
END:VALARM
END:VEVENT
END:VCALENDAR
