BEGIN:VCALENDAR
PRODID:-//Microsoft Corporation//Outlook 12.0 MIMEDIR//EN
VERSION:2.0
METHOD:PUBLISH
X-MS-OLK-FORCEINSPECTOROPEN:TRUE
BEGIN:VEVENT
CLASS:PUBLIC
CREATED:20260419T213631Z
DESCRIPTION:Un flujo de caja saludable y previsible le ayudará a sobrevivir a una economía turbulenta como la actual. Para saber de cuánto capital circulante dispone su empresa, puede averiguar qué cantidades están bloqueadas en cuentas por pagar, en cuentas por cobrar e inventario, solo si tiene acceso a los datos de forma fácil y rápida, lo conseguirá.\n \nAhí es donde usar soluciones como Jet Reports y Jet Analytics, marcan la diferencia. Con Jet Reports y Jet Analytics, generará los informes detallados en Excel que tanto necesita en segundos y luego desglosarlos en otras áreas para entender totalmente su situación de liquidez y planificar en consecuencia.\n \nY ahora se lo hemos puesto más fácil, ya que le entregamos este Set de Informes ya construidos para Usted, fácilmente adaptables por Usted o por nosotros (Partner).\n \nAdemás, hasta finales de junio le ofrecemos un descuento del 20% en todos los paquetes Jet Reports y Jet Analytics Foundation, junto con un descuento del 50% en todos los diseñadores y visores en un único pedido.\n \nTanto Jet Reports como Jet Analytics se instalan rápidamente, son fáciles de usar y están específicamente diseñados para su Microsoft Dynamics ERP.\n \nPresentarán el webinar Luís Vegue y Mario Vegue de Jet Global. \n
DTSTART:20200622T160000
DTEND:20200622T170000
DTSTAMP:20260419T213631Z
LOCATION:Online
PRIORITY:5
SEQUENCE:0
SUMMARY;LANGUAGE=es-es:Tecnowebinars.com - :: Flujo de caja en Dynamics con Jet Reports y Analytics
TRANSP:OPAQUE
UID:88187b24e71f63e557fdcfd26ab683c8 Tecnowebinars.com
X-MICROSOFT-CDO-BUSYSTATUS:BUSY
X-MICROSOFT-CDO-IMPORTANCE:1
X-MICROSOFT-DISALLOW-COUNTER:FALSE
X-MS-OLK-ALLOWEXTERNCHECK:TRUE
X-MS-OLK-AUTOFILLLOCATION:FALSE
X-MS-OLK-CONFTYPE:0
BEGIN:VALARM
TRIGGER:-PT1440M
ACTION:DISPLAY
DESCRIPTION:Reminder
END:VALARM
END:VEVENT
END:VCALENDAR
