BEGIN:VCALENDAR
PRODID:-//Microsoft Corporation//Outlook 12.0 MIMEDIR//EN
VERSION:2.0
METHOD:PUBLISH
X-MS-OLK-FORCEINSPECTOROPEN:TRUE
BEGIN:VEVENT
CLASS:PUBLIC
CREATED:20260419T143657Z
DESCRIPTION:VER VIDEO\nEn muchas ocasiones la implantación de un proyecto ERP no termina con éxito o con el grado de satisfacción que tanto cliente como partner podían esperar. En algunas de estas ocasiones una de las partes acaba acudiendo a abogados para interponer una demanda o para defenderse de la demanda del contrario.\nRecordemos que la complejidad de un ERP es muy grande. Como sabemos cambia en muchas ocasiones los procesos de una empresa, se deben realizar adaptaciones para la particularidad de la empresa, se deben instalar e integrar nuevas aplicaciones con terceros software, etc y todo esto sin que la empresa cliente pare de trabajar.\nEn este webinar descubriremos las diferentes razones más importantes que provocan que un proyecto ERP acabe en juicio, como podemos evitarlas, como debemos preparar un informe de demanda o contestación, situaciones que ocurren en sala judicial, etc \nVER VIDEO\n
DTSTART:20201103T170000
DTEND:20201103T183000
DTSTAMP:20260419T143657Z
LOCATION:Online
PRIORITY:5
SEQUENCE:0
SUMMARY;LANGUAGE=es-es:Tecnowebinars.com - :: Cuando un proyecto ERP acaba en juicio
TRANSP:OPAQUE
UID:e320031126072862bddc14cafba2ce38 Tecnowebinars.com
X-MICROSOFT-CDO-BUSYSTATUS:BUSY
X-MICROSOFT-CDO-IMPORTANCE:1
X-MICROSOFT-DISALLOW-COUNTER:FALSE
X-MS-OLK-ALLOWEXTERNCHECK:TRUE
X-MS-OLK-AUTOFILLLOCATION:FALSE
X-MS-OLK-CONFTYPE:0
BEGIN:VALARM
TRIGGER:-PT1440M
ACTION:DISPLAY
DESCRIPTION:Reminder
END:VALARM
END:VEVENT
END:VCALENDAR
