BEGIN:VCALENDAR
PRODID:-//Microsoft Corporation//Outlook 12.0 MIMEDIR//EN
VERSION:2.0
METHOD:PUBLISH
X-MS-OLK-FORCEINSPECTOROPEN:TRUE
BEGIN:VEVENT
CLASS:PUBLIC
CREATED:20260419T213630Z
DESCRIPTION:As supply chains are getting more complex, more items need to be tracked more closely. Therefore, it's crucial that even challenging codes can be read trouble-free, process metrics are quickly accessible and devices on the factory floor and beyond can communicate with each other.\n \nThis presentation will cover:\n \n- Applications and challenges in the automotive industry\n- Update on barcode reading technology\n- Barcode reading vs. verification\n- Edge intelligence cross-platform communication for IIOT\n
DTSTART:20200623T110000
DTEND:20200623T120000
DTSTAMP:20260419T213630Z
LOCATION:Online
PRIORITY:5
SEQUENCE:0
SUMMARY;LANGUAGE=es-es:Tecnowebinars.com - :: Código de Barras avanzado para trazabilidad en automoción. Por Cognex.
TRANSP:OPAQUE
UID:dc2514e7d01ef40efb86b4413304b3f8 Tecnowebinars.com
X-MICROSOFT-CDO-BUSYSTATUS:BUSY
X-MICROSOFT-CDO-IMPORTANCE:1
X-MICROSOFT-DISALLOW-COUNTER:FALSE
X-MS-OLK-ALLOWEXTERNCHECK:TRUE
X-MS-OLK-AUTOFILLLOCATION:FALSE
X-MS-OLK-CONFTYPE:0
BEGIN:VALARM
TRIGGER:-PT1440M
ACTION:DISPLAY
DESCRIPTION:Reminder
END:VALARM
END:VEVENT
END:VCALENDAR
