BEGIN:VCALENDAR
PRODID:-//Microsoft Corporation//Outlook 12.0 MIMEDIR//EN
VERSION:2.0
METHOD:PUBLISH
X-MS-OLK-FORCEINSPECTOROPEN:TRUE
BEGIN:VEVENT
CLASS:PUBLIC
CREATED:20260419T213506Z
DESCRIPTION:Tras la disrupción económica y laboral que supone el COVID-19, millones de empleados vuelven a sus centros de trabajo. Ante esta situación, es necesario tomar medidas de prevención de contagios, como el control de temperatura.\n \nLa prevención es la mejor manera de reducir riesgos y ofrecer seguridad a empleados y clientes. La implantación de medidas de Prevención de Riesgos Laborales debe garantizar que se cumpla con la normativa de Protección de Datos.\n \nTe invitamos a este webinar que te mostrará las claves para articular medidas de Prevención de control de temperatura en un marco en que se cumpla con la Protección de Datos, donde participarán expertos de Cuatrecasas y de Robotics.\n \nTodas las claves para controlar la temperatura en los centros de trabajo y cumplir con la normativa de protección de datos:\n \n- Opciones y Efectividad del control de temperatura\n- Evaluación de riesgos PRL\n- Base jurídica de tratamiento, principio de legalidad\n- Consentimiento expreso\n- Denegación de acceso a las instalaciones\n \nRegistro y conservación datos \n
DTSTART:20200612T100000
DTEND:20200612T110000
DTSTAMP:20260419T213506Z
LOCATION:Online
PRIORITY:5
SEQUENCE:0
SUMMARY;LANGUAGE=es-es:Tecnowebinars.com - :: Claves del Control de Temperatura en los Accesos: Protección de Datos y Prevención de Riesgos Laborales
TRANSP:OPAQUE
UID:da3fa740796ee6e960bfa84101bf5ff9 Tecnowebinars.com
X-MICROSOFT-CDO-BUSYSTATUS:BUSY
X-MICROSOFT-CDO-IMPORTANCE:1
X-MICROSOFT-DISALLOW-COUNTER:FALSE
X-MS-OLK-ALLOWEXTERNCHECK:TRUE
X-MS-OLK-AUTOFILLLOCATION:FALSE
X-MS-OLK-CONFTYPE:0
BEGIN:VALARM
TRIGGER:-PT1440M
ACTION:DISPLAY
DESCRIPTION:Reminder
END:VALARM
END:VEVENT
END:VCALENDAR
