BEGIN:VCALENDAR
PRODID:-//Microsoft Corporation//Outlook 12.0 MIMEDIR//EN
VERSION:2.0
METHOD:PUBLISH
X-MS-OLK-FORCEINSPECTOROPEN:TRUE
BEGIN:VEVENT
CLASS:PUBLIC
CREATED:20260419T213630Z
DESCRIPTION:En este webinar veremos las herramientas eSign ePDF y eSign Facturae de forma práctica.\n \nAGENDA:\n \n- Introducción Innova\n- Presentación portal Innova\n- Presentación eSign Facturae\n- Presentación eSign ePDF\n- Demo eSign Facturae y eSign PDF\n- Dudas y preguntas\n \n \n \n \n \n
DTSTART:20200619T100000
DTEND:20200619T110000
DTSTAMP:20260419T213630Z
LOCATION:Online
PRIORITY:5
SEQUENCE:0
SUMMARY;LANGUAGE=es-es:Tecnowebinars.com - :: Firma digital masiva de Factura-e y PDF con eSign
TRANSP:OPAQUE
UID:bc3d307ab798e1a62b4c59d36dfe3e21 Tecnowebinars.com
X-MICROSOFT-CDO-BUSYSTATUS:BUSY
X-MICROSOFT-CDO-IMPORTANCE:1
X-MICROSOFT-DISALLOW-COUNTER:FALSE
X-MS-OLK-ALLOWEXTERNCHECK:TRUE
X-MS-OLK-AUTOFILLLOCATION:FALSE
X-MS-OLK-CONFTYPE:0
BEGIN:VALARM
TRIGGER:-PT1440M
ACTION:DISPLAY
DESCRIPTION:Reminder
END:VALARM
END:VEVENT
END:VCALENDAR
