BEGIN:VCALENDAR
PRODID:-//Microsoft Corporation//Outlook 12.0 MIMEDIR//EN
VERSION:2.0
METHOD:PUBLISH
X-MS-OLK-FORCEINSPECTOROPEN:TRUE
BEGIN:VEVENT
CLASS:PUBLIC
CREATED:20260419T213504Z
DESCRIPTION:Dentro del ciclo de webinars Unprecedented de Fira de Barcelona.\nHP 3D Printing y BASF lanzan en España un nuevo material de impresión que expande las posibilidades de la fabricación digital, dentro de la serie de webinars UNPRECEDENTED de Expoquimia, Equiplast, Eurosurfas, Industry y HEALTHIO.\nContenido de la Sesión\n- Alianza HP 3D Printing y BASF: Sumando fuerzas para habilitar nuevas aplicaciones.\n- Tecnología Multi Jet Fusion: Metas alcanzadas, situación actual y plan de futuro.\n- Lanzamiento del nuevo material BASF compatible con la Impresora HP Jet Fusion 5200: Detalles técnicos y casos de uso.\n- Industrias Alegre: Primera empresa española en fabricar con el nuevo material de impresión.\n \n \n
DTSTART:20200609T120000
DTEND:20200609T130000
DTSTAMP:20260419T213504Z
LOCATION:Online
PRIORITY:5
SEQUENCE:0
SUMMARY;LANGUAGE=es-es:Tecnowebinars.com - :: Expandiendo la fabricación digital HP 3D Printing y BASF
TRANSP:OPAQUE
UID:e77cc817e48c773a963d3e1179b35d1d Tecnowebinars.com
X-MICROSOFT-CDO-BUSYSTATUS:BUSY
X-MICROSOFT-CDO-IMPORTANCE:1
X-MICROSOFT-DISALLOW-COUNTER:FALSE
X-MS-OLK-ALLOWEXTERNCHECK:TRUE
X-MS-OLK-AUTOFILLLOCATION:FALSE
X-MS-OLK-CONFTYPE:0
BEGIN:VALARM
TRIGGER:-PT1440M
ACTION:DISPLAY
DESCRIPTION:Reminder
END:VALARM
END:VEVENT
END:VCALENDAR
