BEGIN:VCALENDAR
PRODID:-//Microsoft Corporation//Outlook 12.0 MIMEDIR//EN
VERSION:2.0
METHOD:PUBLISH
X-MS-OLK-FORCEINSPECTOROPEN:TRUE
BEGIN:VEVENT
CLASS:PUBLIC
CREATED:20260419T213505Z
DESCRIPTION:This webinar looks at how FreeRTOS is the ideal starting point for embedded applications, even those that target a safety critical application.\nFollow along at home with the NXP FRDM-K64F  as we see the differences between FreeRTOS and the safety critical RTOS SAFERTOS®; why these differences are necessary, and how it’s possible to upgrade.\nWe’ll discuss what defines a safety critical RTOS, as well as different methods of co-locating non-safety critical code such as the FreeRTOS libraries. A key advantage of FreeRTOS is its community, so join the webinar on the 23rd June to see how far you can take your project. \n
DTSTART:20200623T170000
DTEND:20200623T180000
DTSTAMP:20260419T213505Z
LOCATION:Online
PRIORITY:5
SEQUENCE:0
SUMMARY;LANGUAGE=es-es:Tecnowebinars.com - :: Building on FreeRTOS for Safety critical Applications using SAFERTOS
TRANSP:OPAQUE
UID:bc14150b3b7f07094002158deb5f6c8e Tecnowebinars.com
X-MICROSOFT-CDO-BUSYSTATUS:BUSY
X-MICROSOFT-CDO-IMPORTANCE:1
X-MICROSOFT-DISALLOW-COUNTER:FALSE
X-MS-OLK-ALLOWEXTERNCHECK:TRUE
X-MS-OLK-AUTOFILLLOCATION:FALSE
X-MS-OLK-CONFTYPE:0
BEGIN:VALARM
TRIGGER:-PT1440M
ACTION:DISPLAY
DESCRIPTION:Reminder
END:VALARM
END:VEVENT
END:VCALENDAR
