BEGIN:VCALENDAR
PRODID:-//Microsoft Corporation//Outlook 12.0 MIMEDIR//EN
VERSION:2.0
METHOD:PUBLISH
X-MS-OLK-FORCEINSPECTOROPEN:TRUE
BEGIN:VEVENT
CLASS:PUBLIC
CREATED:20260419T213541Z
DESCRIPTION:ADAS, AI, and autonomous vehicles are lumped together, for good reason; they all feed off one another.\n \nCan one advance without the other? Probably, but not nearly as seamlessly.\n \nThis webinar will look at each of these elements separately, but then dive in on how they need to operate cohesively.\n \n \n
DTSTART:20200609T170000
DTEND:20200609T180000
DTSTAMP:20260419T213541Z
LOCATION:Online
PRIORITY:5
SEQUENCE:0
SUMMARY;LANGUAGE=es-es:Tecnowebinars.com - :: LIVE EVENT: ADAS, AI, and Advancing the Autonomous Vehicle
TRANSP:OPAQUE
UID:a58dbf3e4fcbc1e0520bcb3f06513c72 Tecnowebinars.com
X-MICROSOFT-CDO-BUSYSTATUS:BUSY
X-MICROSOFT-CDO-IMPORTANCE:1
X-MICROSOFT-DISALLOW-COUNTER:FALSE
X-MS-OLK-ALLOWEXTERNCHECK:TRUE
X-MS-OLK-AUTOFILLLOCATION:FALSE
X-MS-OLK-CONFTYPE:0
BEGIN:VALARM
TRIGGER:-PT1440M
ACTION:DISPLAY
DESCRIPTION:Reminder
END:VALARM
END:VEVENT
END:VCALENDAR
