BEGIN:VCALENDAR
PRODID:-//Microsoft Corporation//Outlook 12.0 MIMEDIR//EN
VERSION:2.0
METHOD:PUBLISH
X-MS-OLK-FORCEINSPECTOROPEN:TRUE
BEGIN:VEVENT
CLASS:PUBLIC
CREATED:20260419T200806Z
DESCRIPTION:IoT systems tend to be thought of as a “clean slate” environment where historical systems have no bearing.\nThis couldn’t be further from the truth when considering Industrial IoT. IIoT must be an extension of the existing industrial systems in order to enable a new business model without disrupting the existing products and services.\nJoin us as industrial IoT experts discuss considerations and examples of how Industrial IoT systems embrace legacy equipment and provide cost effective evolution without disrupting existing business models.\n
DTSTART:20200630T200000
DTEND:20200630T210000
DTSTAMP:20260419T200806Z
LOCATION:Online
PRIORITY:5
SEQUENCE:0
SUMMARY;LANGUAGE=es-es:Tecnowebinars.com - :: Dealing with Legacy in Industrial IoT
TRANSP:OPAQUE
UID:5e75f47988ff15e894f87b8906a3d1c1 Tecnowebinars.com
X-MICROSOFT-CDO-BUSYSTATUS:BUSY
X-MICROSOFT-CDO-IMPORTANCE:1
X-MICROSOFT-DISALLOW-COUNTER:FALSE
X-MS-OLK-ALLOWEXTERNCHECK:TRUE
X-MS-OLK-AUTOFILLLOCATION:FALSE
X-MS-OLK-CONFTYPE:0
BEGIN:VALARM
TRIGGER:-PT1440M
ACTION:DISPLAY
DESCRIPTION:Reminder
END:VALARM
END:VEVENT
END:VCALENDAR
