BEGIN:VCALENDAR
PRODID:-//Microsoft Corporation//Outlook 12.0 MIMEDIR//EN
VERSION:2.0
METHOD:PUBLISH
X-MS-OLK-FORCEINSPECTOROPEN:TRUE
BEGIN:VEVENT
CLASS:PUBLIC
CREATED:20260419T213631Z
DESCRIPTION:Heavy equipment (HE) manufacturers and their suppliers are leading with innovations to the product line to meet their customer demands for a safe and quality product.\nAs they face more complex business requirements, HE manufacturers are driving with a more strategic and integrated approach to quality. Irrespective of industry and market dynamics, manufacturers and their suppliers must comply with the industry norms and quality standards.\nAs one of the most competitive and complex manufacturing sectors across the globe, the HE industry stands to be among the biggest beneficiaries of a closed-loop Quality Management System.\nLearn how an end-to-end quality solution helps streamline the heavy equipment quality processes.\nYou will learn:\n- Benefits of closed-loop quality management approach\n- Best practices from Siemens subject matters experts\n- How HE customers have successfully responded to changing market dynamics, and enabled continuous improvements from a Quality Management System\n
DTSTART:20200604T130000
DTEND:20200604T140000
DTSTAMP:20260419T213631Z
LOCATION:Online
PRIORITY:5
SEQUENCE:0
SUMMARY;LANGUAGE=es-es:Tecnowebinars.com - :: Reap the benefits of closed-loop quality optimization for heavy equipment manufacturers
TRANSP:OPAQUE
UID:4aabfe146ff1fb787b9495cabed54dca Tecnowebinars.com
X-MICROSOFT-CDO-BUSYSTATUS:BUSY
X-MICROSOFT-CDO-IMPORTANCE:1
X-MICROSOFT-DISALLOW-COUNTER:FALSE
X-MS-OLK-ALLOWEXTERNCHECK:TRUE
X-MS-OLK-AUTOFILLLOCATION:FALSE
X-MS-OLK-CONFTYPE:0
BEGIN:VALARM
TRIGGER:-PT1440M
ACTION:DISPLAY
DESCRIPTION:Reminder
END:VALARM
END:VEVENT
END:VCALENDAR
