BEGIN:VCALENDAR
PRODID:-//Microsoft Corporation//Outlook 12.0 MIMEDIR//EN
VERSION:2.0
METHOD:PUBLISH
X-MS-OLK-FORCEINSPECTOROPEN:TRUE
BEGIN:VEVENT
CLASS:PUBLIC
CREATED:20260419T213541Z
DESCRIPTION:Space system engineering assures that mission risks and costs are low. The operational harsh environment and its effect on the space systems require a good understanding of how space systems structures, propulsion systems, mechanisms, and software will behave and operate in orbit.\nAt the same moment, space companies live in a more competitive business environment, and the need to develop and qualify the space system on time and budget is of capital importance.\nDigital twin technologies evolve quickly and allow you to master the complexity of space systems, while simulation helps to design, develop, and virtually test the systems. Complexity however, also dictates that physical testing provides insight on whether the assumptions in the digital twin models are right, hence verification of simulation models is crucial.\nWe’ll address critical topics like:\n- How to reduce risk and be time and cost-effective while reaching performance targets\n- How to implement a digital twin to innovate and create engineering insight in the physical behavior\n- How to perform extensive qualification testing campaigns in close connection with simulation\n
DTSTART:20200602T130000
DTEND:20200602T140000
DTSTAMP:20260419T213541Z
LOCATION:Online
PRIORITY:5
SEQUENCE:0
SUMMARY;LANGUAGE=es-es:Tecnowebinars.com - :: Addressing Space System Performance Engineering
TRANSP:OPAQUE
UID:307334c97abc08d6a61c2b5dce753a16 Tecnowebinars.com
X-MICROSOFT-CDO-BUSYSTATUS:BUSY
X-MICROSOFT-CDO-IMPORTANCE:1
X-MICROSOFT-DISALLOW-COUNTER:FALSE
X-MS-OLK-ALLOWEXTERNCHECK:TRUE
X-MS-OLK-AUTOFILLLOCATION:FALSE
X-MS-OLK-CONFTYPE:0
BEGIN:VALARM
TRIGGER:-PT1440M
ACTION:DISPLAY
DESCRIPTION:Reminder
END:VALARM
END:VEVENT
END:VCALENDAR
