BEGIN:VCALENDAR
PRODID:-//Microsoft Corporation//Outlook 12.0 MIMEDIR//EN
VERSION:2.0
METHOD:PUBLISH
X-MS-OLK-FORCEINSPECTOROPEN:TRUE
BEGIN:VEVENT
CLASS:PUBLIC
CREATED:20260419T213631Z
DESCRIPTION:As products become more complex, with more stakeholders involved, capturing requirements from multiple sources and keeping them up to date as they change becomes more challenging.\nHow can you ensure that requirements are met throughout the product lifecycle – from design through to manufacturing, installation and service? How do you adjust your plans as requirements are updated, without impacting your timeline or budget?\nIn this webinar discover:\n- How to address common challenges that lead to missed requirements\n- How to easily assess the impact of proposed design changes\n- What strategies can keep budgets in check when requirements change\n- How to manage requirements across mechanical and electrical domains\n- How to achieve better requirements management\n
DTSTART:20200602T170000
DTEND:20200602T180000
DTSTAMP:20260419T213631Z
LOCATION:Online
PRIORITY:5
SEQUENCE:0
SUMMARY;LANGUAGE=es-es:Tecnowebinars.com - :: Better requirements management to save your bottom line
TRANSP:OPAQUE
UID:29d113ffa25fe94e2ab98b7f412a48a3 Tecnowebinars.com
X-MICROSOFT-CDO-BUSYSTATUS:BUSY
X-MICROSOFT-CDO-IMPORTANCE:1
X-MICROSOFT-DISALLOW-COUNTER:FALSE
X-MS-OLK-ALLOWEXTERNCHECK:TRUE
X-MS-OLK-AUTOFILLLOCATION:FALSE
X-MS-OLK-CONFTYPE:0
BEGIN:VALARM
TRIGGER:-PT1440M
ACTION:DISPLAY
DESCRIPTION:Reminder
END:VALARM
END:VEVENT
END:VCALENDAR
