BEGIN:VCALENDAR
PRODID:-//Microsoft Corporation//Outlook 12.0 MIMEDIR//EN
VERSION:2.0
METHOD:PUBLISH
X-MS-OLK-FORCEINSPECTOROPEN:TRUE
BEGIN:VEVENT
CLASS:PUBLIC
CREATED:20260419T213540Z
DESCRIPTION:A business is made up of people, work processes and activities, that turn ideas into products and services, delivering business vision and goals. From product design to engineering, from design change to production & service process update, from quality plan revision to work instruction update, these are matters that are crucial and critical to a business.\nDespite having a workforce that is decentralized during this extraordinary time, the ability of an organization to continuously collaborate among staff, managing the entire lifecycle of product from requirement to design, through engineering and production, and to service and disposal, is mandatory.\nAided by Siemens use cases, join us and learn in this webinar, how an organization - regardless of company size - can move towards operational excellence by digitalizing its business using cloud-hosted PLM, that is secured and accessible wherever its workforce and suppliers are, 24x7; and why many businesses embarked on their digitalization journey with PLM as their key strategy.\n
DTSTART:20200616T050000
DTEND:20200616T060000
DTSTAMP:20260419T213540Z
LOCATION:Online
PRIORITY:5
SEQUENCE:0
SUMMARY;LANGUAGE=es-es:Tecnowebinars.com - :: Collaboration without Boundaries
TRANSP:OPAQUE
UID:93be274b592e6aad61ae08590002052f Tecnowebinars.com
X-MICROSOFT-CDO-BUSYSTATUS:BUSY
X-MICROSOFT-CDO-IMPORTANCE:1
X-MICROSOFT-DISALLOW-COUNTER:FALSE
X-MS-OLK-ALLOWEXTERNCHECK:TRUE
X-MS-OLK-AUTOFILLLOCATION:FALSE
X-MS-OLK-CONFTYPE:0
BEGIN:VALARM
TRIGGER:-PT1440M
ACTION:DISPLAY
DESCRIPTION:Reminder
END:VALARM
END:VEVENT
END:VCALENDAR
