BEGIN:VCALENDAR
PRODID:-//Microsoft Corporation//Outlook 12.0 MIMEDIR//EN
VERSION:2.0
METHOD:PUBLISH
X-MS-OLK-FORCEINSPECTOROPEN:TRUE
BEGIN:VEVENT
CLASS:PUBLIC
CREATED:20260419T195925Z
DESCRIPTION:Intelligent Data Summit - is a multi-vendor virtual summit where experts will share how to design and deliver a modern digital enterprise powered by analytics, data & AI/ML. Topics include proven strategies, tools and platforms for all environments.\n \nAccelerate AI/ML Learning - The Age of Citizen Data Scientist\nData science personnel are expensive and hard to find. See how F2000s are using automation, no-code platforms and templated best practices to fill the AI/ML skills gap.\n \nMachine Learning ROI - Succeed from the Start\nMany ML projects begin with promise, but frequently fail. Speakers will show how real data, models and team collaboration can deliver ML success.\n \nAnalytics Lifecycle - Avoid Common Bottlenecks, Speed Deployment\nStreamline your process to get meaningful insights from mountains of data. Use modern ways to prepare, aggregate and correlate data. Get tips to design and deploy effective models.\n \nResponsive BI - AI-Powered Interactive Dashboards\nSee how new-gen BI builds on data visualization. Today’s BI can interactively answer questions thanks to AI, data discovery & voice - for improved self-service and deeper insights.\n \n‘Single Source of Truth’ - Cornerstone of the Data-Driven Enterprise\nSSoT projects improve data intelligence, reduce errors and provide real-time access. Experts will review data ingestion, MDM, cataloging, virtualization and connectivity.\n \nAI for IT Operations - AIOps for Quick Recovery, Avoiding Failures\nEnterprise architectures are now distributed, complex and vulnerable to outages. AI and automation offer deep visibility, speed problem resolution & keep critical systems running.\n
DTSTART:20200723T190000
DTEND:20200723T230000
DTSTAMP:20260419T195925Z
LOCATION:Online
PRIORITY:5
SEQUENCE:0
SUMMARY;LANGUAGE=es-es:Tecnowebinars.com - :: Intelligent Data Summit
TRANSP:OPAQUE
UID:fca9a6c96c487a35531748e61739712f Tecnowebinars.com
X-MICROSOFT-CDO-BUSYSTATUS:BUSY
X-MICROSOFT-CDO-IMPORTANCE:1
X-MICROSOFT-DISALLOW-COUNTER:FALSE
X-MS-OLK-ALLOWEXTERNCHECK:TRUE
X-MS-OLK-AUTOFILLLOCATION:FALSE
X-MS-OLK-CONFTYPE:0
BEGIN:VALARM
TRIGGER:-PT1440M
ACTION:DISPLAY
DESCRIPTION:Reminder
END:VALARM
END:VEVENT
END:VCALENDAR
