BEGIN:VCALENDAR
PRODID:-//Microsoft Corporation//Outlook 12.0 MIMEDIR//EN
VERSION:2.0
METHOD:PUBLISH
X-MS-OLK-FORCEINSPECTOROPEN:TRUE
BEGIN:VEVENT
CLASS:PUBLIC
CREATED:20260419T213631Z
DESCRIPTION:Desde IG hemos organizado una jornada de trading online con expertos para analizar al detalle la criptomoneda protagonista de todos los titulares tras el último halving.\nTras el último halving, el bitcoin ha acaparado todos los titulares y expertos de la talla de Jesús Pérez, director del Digital Assets Institute, y Albert Salvany, consultor tecnológico FINTECH, nos darán una master class sobre este tipo de activos desde un punto de vista técnico y fundamental.\nContamos también con nuestro analista Sergio Ávila, quien nos hablará de las posibilidades del trading con bitcoin o nuestro índice Crypto 10.\n \n
DTSTART:20200604T180000
DTEND:20200604T190000
DTSTAMP:20260419T213631Z
LOCATION:Online
PRIORITY:5
SEQUENCE:0
SUMMARY;LANGUAGE=es-es:Tecnowebinars.com - :: Jornada de trading con bitcoin
TRANSP:OPAQUE
UID:e37f8fab93fa2a4bec0e43ac93c6df4d Tecnowebinars.com
X-MICROSOFT-CDO-BUSYSTATUS:BUSY
X-MICROSOFT-CDO-IMPORTANCE:1
X-MICROSOFT-DISALLOW-COUNTER:FALSE
X-MS-OLK-ALLOWEXTERNCHECK:TRUE
X-MS-OLK-AUTOFILLLOCATION:FALSE
X-MS-OLK-CONFTYPE:0
BEGIN:VALARM
TRIGGER:-PT1440M
ACTION:DISPLAY
DESCRIPTION:Reminder
END:VALARM
END:VEVENT
END:VCALENDAR
