BEGIN:VCALENDAR
PRODID:-//Microsoft Corporation//Outlook 12.0 MIMEDIR//EN
VERSION:2.0
METHOD:PUBLISH
X-MS-OLK-FORCEINSPECTOROPEN:TRUE
BEGIN:VEVENT
CLASS:PUBLIC
CREATED:20260419T213630Z
DESCRIPTION:VER VIDEO\nEn este Webinar sobre el Mantenimiento 4.0 vamos a destacar el papel de un dispositivo tan cotidiano que a veces no nos damos cuenta de su potencia y de la cantidad de usos que podemos darle. \nNos referimos al teléfono móvil, celular o Smartphone, este dispositivo que nos ofrece todo tipo de sensores conectados a Internet, precisamente lo que hemos denominado un dispositivo IoT.\nNuestro teléfono es un super-dispositivo IoT y nos puede proporcionar de una forma sencilla, asequible y natural una cantidad ingente de información en tiempo real para alimentar nuestro modelo de mantenimiento predictivo.\nAprovechemos la tecnología cotidiana ya que cada vez tiene más sentido que el interface que usan los operarios o técnicos sea más natural, con comandos de voz, capacidades de colaboración “on line”, apps de realidad aumentada, lectores RFID, proximidad NFC, códigos de barras y GR, y un largo etc.\nUso de los Sensores IoT de un Smartphone\nEmpezaremos recordando los sensores que tiene un Smartphone y de los que apenas somos conscientes, por ejemplo un modelo de última generación pero perfectamente asequible viene con Sensor de proximidad | Sensor de luz ambiental en pantalla | Acelerómetro | Giroscopio | Brújula electrónica | Sensor de efecto Hall | Motor lineal | Disparador IR y por supuesto los típicos Sensores de Navegación y Geo posicionamiento. En el Webinar vamos a capturar información del acelerómetro y del GPS mediante una sencilla app, la enviaremos a la nube de AWS y desde allí trataremos estos datos para enviárselos al Sistema de Gestión de Activos y Mantenimiento Infor EAM mediante el middleware Infor ION. \nEl Smartphone como dispositivo de gestión\nLes mostraremos una app realizada mediante una plataforma de desarrollo del prestigioso MIT, una plataforma capaz de desarrollar apps en IOS y Android.\nEl caso de uso sería que un usuario sea capaz de inventariar un activo realizando una foto con el Smartphone, con la geo-posición y enviarla al sistema Infor EAM  abriendo automáticamente un nuevo registro. También mostraremos como conectamos la app con Infor EAM mediante la API de WebServices. Quedará demostrado lo sencillo que puede resultar poner en las manos de un operario una funcionalidad tan útil como la descrita.\nInfor EAM Mobile\nPor último les mostraremos todas las posibilidades y funcionalidades que ofrece una aplicación comercial de Clase Mundial, realizando diferentes casos de uso como generación de Inventarios, Rutas de Inspección, Gestión de OT,s,  Visualización del histórico, de la documentación técnica, Logística de Piezas de Repuesto, etc. \nVER VIDEO  \n \n
DTSTART:20200625T160000
DTEND:20200625T170000
DTSTAMP:20260419T213630Z
LOCATION:Online
PRIORITY:5
SEQUENCE:0
SUMMARY;LANGUAGE=es-es:Tecnowebinars.com - :: Mantenimiento 4.0: aprovecha tu super-dispositivo IoT, tu Smartphone
TRANSP:OPAQUE
UID:c8cb36660d5666c2d8883f704930d88f Tecnowebinars.com
X-MICROSOFT-CDO-BUSYSTATUS:BUSY
X-MICROSOFT-CDO-IMPORTANCE:1
X-MICROSOFT-DISALLOW-COUNTER:FALSE
X-MS-OLK-ALLOWEXTERNCHECK:TRUE
X-MS-OLK-AUTOFILLLOCATION:FALSE
X-MS-OLK-CONFTYPE:0
BEGIN:VALARM
TRIGGER:-PT1440M
ACTION:DISPLAY
DESCRIPTION:Reminder
END:VALARM
END:VEVENT
END:VCALENDAR
