BEGIN:VCALENDAR
PRODID:-//Microsoft Corporation//Outlook 12.0 MIMEDIR//EN
VERSION:2.0
METHOD:PUBLISH
X-MS-OLK-FORCEINSPECTOROPEN:TRUE
BEGIN:VEVENT
CLASS:PUBLIC
CREATED:20260419T213540Z
DESCRIPTION:El próximo buque que saldrá de la factoría de Navantia para la Armada española será el submarino S-80 Plus. El mayor reto tecnológico hasta la fecha al que tuvo que hacer frente la industria de defensa española.\nIDS Connect abordará los aspectos clave desde el punto de vista de la Industria, el Ministerio de Defensa y la Armada sobre este programa de la Dirección General de Armamento y Material en el que será nuestro tercer webinario.\nPara ello contamos con:\n \n - Germán Romero, jefe de ingeniería del astillero de Cartagena de Navantia.\n - CN F. Javier del Corral, jefe del Programa S80 en la DGAM (Ministerio de Defensa).\n - CN Alejandro Cuerda, jefe de la sección de submarinos de la División Logística del Estado Mayor de la Armada.\n \n
DTSTART:20200604T100000
DTEND:20200604T111500
DTSTAMP:20260419T213540Z
LOCATION:Online
PRIORITY:5
SEQUENCE:0
SUMMARY;LANGUAGE=es-es:Tecnowebinars.com - :: Submarino S-80 Plus: el mayor reto tecnológico de la Industria de Defensa española
TRANSP:OPAQUE
UID:a6f234b4ea05e798ddbdfb5293c47f21 Tecnowebinars.com
X-MICROSOFT-CDO-BUSYSTATUS:BUSY
X-MICROSOFT-CDO-IMPORTANCE:1
X-MICROSOFT-DISALLOW-COUNTER:FALSE
X-MS-OLK-ALLOWEXTERNCHECK:TRUE
X-MS-OLK-AUTOFILLLOCATION:FALSE
X-MS-OLK-CONFTYPE:0
BEGIN:VALARM
TRIGGER:-PT1440M
ACTION:DISPLAY
DESCRIPTION:Reminder
END:VALARM
END:VEVENT
END:VCALENDAR
