BEGIN:VCALENDAR
PRODID:-//Microsoft Corporation//Outlook 12.0 MIMEDIR//EN
VERSION:2.0
METHOD:PUBLISH
X-MS-OLK-FORCEINSPECTOROPEN:TRUE
BEGIN:VEVENT
CLASS:PUBLIC
CREATED:20260419T213647Z
DESCRIPTION:Te presentamos en este webinar un enfoque único y exclusivo para facilitar la migración a SAP S/4HANA  de una forma segura y rentable.\nPodrás podrás conocer en directo cómo llevar a cabo cualquier escenario de transformación de tu organización con certeza y fiabilidad.\nMove to S4HANA, Carve-Out, Fusiones, migraciones a HANA con Near Zero Downtime sin tener impacto en el desarrollo del negocio y todas las garantías técnicas.\nPase VIP con los datos de tu propio Sistema\n \nSólo por asistir al evento y recopilando los códigos que entregaremos durante las sesiones, tendrás la posibilidad de obtener un “Pase VIP” con los datos de tu propio sistema.\n \nA través de la  lente del CrystalBridge, por un tiempo limitado y acompañado de nuestros expertos en transformación, descubriremos los principales insights que soporten tu toma de decisión en el camino de la transformación.\n \n¡No pierdas esta oportunidad! durante el evento daremos las claves para que consigas tu “Pase VIP”\n \n \n \n \n \n \n \n
DTSTART:20200604T100000
DTEND:20200604T113000
DTSTAMP:20260419T213647Z
LOCATION:Online
PRIORITY:5
SEQUENCE:0
SUMMARY;LANGUAGE=es-es:Tecnowebinars.com - :: Migra a SAP S/4HANA con Near Zero Downtime. Con Common.
TRANSP:OPAQUE
UID:cd00373f00bcd6143301b137fa7dfa3b Tecnowebinars.com
X-MICROSOFT-CDO-BUSYSTATUS:BUSY
X-MICROSOFT-CDO-IMPORTANCE:1
X-MICROSOFT-DISALLOW-COUNTER:FALSE
X-MS-OLK-ALLOWEXTERNCHECK:TRUE
X-MS-OLK-AUTOFILLLOCATION:FALSE
X-MS-OLK-CONFTYPE:0
BEGIN:VALARM
TRIGGER:-PT1440M
ACTION:DISPLAY
DESCRIPTION:Reminder
END:VALARM
END:VEVENT
END:VCALENDAR
