BEGIN:VCALENDAR
PRODID:-//Microsoft Corporation//Outlook 12.0 MIMEDIR//EN
VERSION:2.0
METHOD:PUBLISH
X-MS-OLK-FORCEINSPECTOROPEN:TRUE
BEGIN:VEVENT
CLASS:PUBLIC
CREATED:20260419T213653Z
DESCRIPTION:Do you still print work orders and instructions to the factory floor? Is your manufacturing process a black box and your ERP only updated when finished goods are received? Watch our webinar and we will show you the latest of QAD’s Production Execution that will enable your company to become a real digital factory, with real-time insight in your whole manufacturing process fully integrated in QAD.\n \nThis webinar, part of our webinar series, will show you how Production Execution : \n \n- Offers you a fully digital workplace\n- Helps you work without errors\n- Guarantees you flawless internal logistics handling\n- Can improve your OEE\n- Integrates with your means of production \n
DTSTART:20200611T160000
DTEND:20200611T163000
DTSTAMP:20260419T213653Z
LOCATION:Online
PRIORITY:5
SEQUENCE:0
SUMMARY;LANGUAGE=es-es:Tecnowebinars.com - :: Ejecución de la Producción con QAD: Conviértete en una Factoría Digital
TRANSP:OPAQUE
UID:e924d7ac0583fe3acfa0b5d994ef7155 Tecnowebinars.com
X-MICROSOFT-CDO-BUSYSTATUS:BUSY
X-MICROSOFT-CDO-IMPORTANCE:1
X-MICROSOFT-DISALLOW-COUNTER:FALSE
X-MS-OLK-ALLOWEXTERNCHECK:TRUE
X-MS-OLK-AUTOFILLLOCATION:FALSE
X-MS-OLK-CONFTYPE:0
BEGIN:VALARM
TRIGGER:-PT1440M
ACTION:DISPLAY
DESCRIPTION:Reminder
END:VALARM
END:VEVENT
END:VCALENDAR
