BEGIN:VCALENDAR
PRODID:-//Microsoft Corporation//Outlook 12.0 MIMEDIR//EN
VERSION:2.0
METHOD:PUBLISH
X-MS-OLK-FORCEINSPECTOROPEN:TRUE
BEGIN:VEVENT
CLASS:PUBLIC
CREATED:20260419T213631Z
DESCRIPTION:Chances are, you’re getting used to the current state of work/remote work, but it continues to change quickly.\nJoin hundreds of your peers from the 3 million strong CMSWire community at The R/Evolution of Work and hear from inspiring leaders such as Betsy Ziegler, the CEO of 1871- the number 1 ranked business incubator in the world, and Marina Ribke, the Head of Enterprise Architecture at Daimler AG, who is leading an international workplace transformation- from home- just like you.\n \nThe top 5 reasons to attend:\n \n- See an amazing group of speakers such as Betsy, Marina, Kelly Leonard, the Executive Director or Iprov and Implied Insights at Second City, Sam Marshall Director at Clearbox, and Siobhan Fagan and - Brice Dunwoodie, the Managing Editor and CEO of CMSWire.\n- Learn different perspectives on ways to innovate and communicate with your teams and empower them to create their own digital workspaces.\n- Engage with a community of your peers.\n- Win prizes and grab some free swag.\n- Save on your registration to Digital Workplace Experience this October.\n
DTSTART:20200623T160000
DTEND:20200623T210000
DTSTAMP:20260419T213631Z
LOCATION:Online
PRIORITY:5
SEQUENCE:0
SUMMARY;LANGUAGE=es-es:Tecnowebinars.com - :: The R/evolution of Work
TRANSP:OPAQUE
UID:0d763ce4ff519176f6946a3f4ffd5865 Tecnowebinars.com
X-MICROSOFT-CDO-BUSYSTATUS:BUSY
X-MICROSOFT-CDO-IMPORTANCE:1
X-MICROSOFT-DISALLOW-COUNTER:FALSE
X-MS-OLK-ALLOWEXTERNCHECK:TRUE
X-MS-OLK-AUTOFILLLOCATION:FALSE
X-MS-OLK-CONFTYPE:0
BEGIN:VALARM
TRIGGER:-PT1440M
ACTION:DISPLAY
DESCRIPTION:Reminder
END:VALARM
END:VEVENT
END:VCALENDAR
