BEGIN:VCALENDAR
PRODID:-//Microsoft Corporation//Outlook 12.0 MIMEDIR//EN
VERSION:2.0
METHOD:PUBLISH
X-MS-OLK-FORCEINSPECTOROPEN:TRUE
BEGIN:VEVENT
CLASS:PUBLIC
CREATED:20260419T213647Z
DESCRIPTION:2020 es el año en que los pagos en tiempo real se convierten en una seria oportunidad de negocio en los EE.UU. Únase para aprender por qué y cómo convertirlo en nuevos ingresos para su negocio. \n \nPonentes:\n \n- Bridget Hall - Gerente Principal de Producto, ACI Worldwide\n- Steve Ledford - Ejecutivo de Producto, La Red RTP, El Centro de Intercambio de Información (TCH)\n- Peter Hazou - Director de Soluciones para Servicios Financieros, Microsoft\n- Reed Luhtanen - Director Ejecutivo del Consejo de Pagos Rápidos de los EE.UU.\n \nTendrán la oportunidad de hacer preguntas a los panelistas durante la sesión de preguntas y respuestas al final.\n
DTSTART:20200605T170000
DTEND:20200605T180000
DTSTAMP:20260419T213647Z
LOCATION:Online
PRIORITY:5
SEQUENCE:0
SUMMARY;LANGUAGE=es-es:Tecnowebinars.com - :: Pagos en tiempo real en 2020 en USA. Oportunidad para la Banca
TRANSP:OPAQUE
UID:24f96e03cf77717276aa247395ad3df7 Tecnowebinars.com
X-MICROSOFT-CDO-BUSYSTATUS:BUSY
X-MICROSOFT-CDO-IMPORTANCE:1
X-MICROSOFT-DISALLOW-COUNTER:FALSE
X-MS-OLK-ALLOWEXTERNCHECK:TRUE
X-MS-OLK-AUTOFILLLOCATION:FALSE
X-MS-OLK-CONFTYPE:0
BEGIN:VALARM
TRIGGER:-PT1440M
ACTION:DISPLAY
DESCRIPTION:Reminder
END:VALARM
END:VEVENT
END:VCALENDAR
