BEGIN:VCALENDAR
PRODID:-//Microsoft Corporation//Outlook 12.0 MIMEDIR//EN
VERSION:2.0
METHOD:PUBLISH
X-MS-OLK-FORCEINSPECTOROPEN:TRUE
BEGIN:VEVENT
CLASS:PUBLIC
CREATED:20260419T213541Z
DESCRIPTION:¿Alguna vez has tenido que preparar un fichero de datos que no tiene el formato adecuado para poder analizarlo de forma adecuada? ¿O tal vez has tenido que unir decenas de ficheros en un único fichero para poder analizar una serie histórica de datos?\nTe enseñamos como hacer ambas cosas en menos de 30 minutos con Alteryx.\n \nAnalizaremos los datos oficiales de matriculaciones de vehículos en España en los últimos años de la DGT y veremos como Alteryx puede hacer el trabajo de horas o días en apenas unos minutos.\n \nTodo ello trabajando con millones de filas de datos y dando a los datos una estructura que podamos replicar en el futuro de forma automática.\n
DTSTART:20200611T100000
DTEND:20200611T103000
DTSTAMP:20260419T213541Z
LOCATION:Online
PRIORITY:5
SEQUENCE:0
SUMMARY;LANGUAGE=es-es:Tecnowebinars.com - :: Cómo combinar, limpiar y analizar decenas de archivos en Alteryx en minutos
TRANSP:OPAQUE
UID:9b252bdbed08711386b7a172d24a862d Tecnowebinars.com
X-MICROSOFT-CDO-BUSYSTATUS:BUSY
X-MICROSOFT-CDO-IMPORTANCE:1
X-MICROSOFT-DISALLOW-COUNTER:FALSE
X-MS-OLK-ALLOWEXTERNCHECK:TRUE
X-MS-OLK-AUTOFILLLOCATION:FALSE
X-MS-OLK-CONFTYPE:0
BEGIN:VALARM
TRIGGER:-PT1440M
ACTION:DISPLAY
DESCRIPTION:Reminder
END:VALARM
END:VEVENT
END:VCALENDAR
