BEGIN:VCALENDAR
PRODID:-//Microsoft Corporation//Outlook 12.0 MIMEDIR//EN
VERSION:2.0
METHOD:PUBLISH
X-MS-OLK-FORCEINSPECTOROPEN:TRUE
BEGIN:VEVENT
CLASS:PUBLIC
CREATED:20260419T230807Z
DESCRIPTION:Learn about SAIMOS Video Analytics, which is one of the video analytics suite seamlessly integrated into Milestone XProtect.\nWe’ll talk about the broad VA portfolio and its potential use cases. During COVID-19 times, we’ll also introduce our sustainable solution approach. \n \nKey learnings\n \n- How to address urgent COVID-19 requirements\n- Sustainability of video analytics to use after COVID-19\n- Solution approach\n \nAreas covered in the webinar\n \n- Perimeter Protection\n- COVID-19\n- Occupancy monitoring for indoors Social Distancing and its advantages after COVID-19\n- Face Analytics for No-Mask-Detection – a sustainable solution for customer segmentation after COVID-19\n
DTSTART:20200528T190000
DTEND:20200528T200000
DTSTAMP:20260419T230807Z
LOCATION:Online
PRIORITY:5
SEQUENCE:0
SUMMARY;LANGUAGE=es-es:Tecnowebinars.com - :: XProtect & SAIMOS: Physical distancing with video analytics
TRANSP:OPAQUE
UID:8640408fcb7e0770696010b1b6c955db Tecnowebinars.com
X-MICROSOFT-CDO-BUSYSTATUS:BUSY
X-MICROSOFT-CDO-IMPORTANCE:1
X-MICROSOFT-DISALLOW-COUNTER:FALSE
X-MS-OLK-ALLOWEXTERNCHECK:TRUE
X-MS-OLK-AUTOFILLLOCATION:FALSE
X-MS-OLK-CONFTYPE:0
BEGIN:VALARM
TRIGGER:-PT1440M
ACTION:DISPLAY
DESCRIPTION:Reminder
END:VALARM
END:VEVENT
END:VCALENDAR
