BEGIN:VCALENDAR
PRODID:-//Microsoft Corporation//Outlook 12.0 MIMEDIR//EN
VERSION:2.0
METHOD:PUBLISH
X-MS-OLK-FORCEINSPECTOROPEN:TRUE
BEGIN:VEVENT
CLASS:PUBLIC
CREATED:20260419T230852Z
DESCRIPTION:This special LIVE WEBINAR will cover the latest thermal body temperature detection solutions offered by Alibi Security to help provide your customers with a way to detect and protect their employees and customers against the coronavirus.\n- We'll review the latest solutions including single-person and multi-person solutions that allow you to detect temperature in high-traffic facilities. Our product team will cover key functionality and features of each solution so you can recommend the best solution for your customers.\n \n- Our team will also talk about the businesses and applications that are asking for these solutions so you can target the right prospects and grow your business.\n
DTSTART:20200528T170000
DTEND:20200528T180000
DTSTAMP:20260419T230852Z
LOCATION:Online
PRIORITY:5
SEQUENCE:0
SUMMARY;LANGUAGE=es-es:Tecnowebinars.com - :: Selling Thermal Body Temperature Detection Solutions
TRANSP:OPAQUE
UID:b9cd4a5490264207fbdfe2dfa4638818 Tecnowebinars.com
X-MICROSOFT-CDO-BUSYSTATUS:BUSY
X-MICROSOFT-CDO-IMPORTANCE:1
X-MICROSOFT-DISALLOW-COUNTER:FALSE
X-MS-OLK-ALLOWEXTERNCHECK:TRUE
X-MS-OLK-AUTOFILLLOCATION:FALSE
X-MS-OLK-CONFTYPE:0
BEGIN:VALARM
TRIGGER:-PT1440M
ACTION:DISPLAY
DESCRIPTION:Reminder
END:VALARM
END:VEVENT
END:VCALENDAR
