BEGIN:VCALENDAR
PRODID:-//Microsoft Corporation//Outlook 12.0 MIMEDIR//EN
VERSION:2.0
METHOD:PUBLISH
X-MS-OLK-FORCEINSPECTOROPEN:TRUE
BEGIN:VEVENT
CLASS:PUBLIC
CREATED:20260419T213631Z
DESCRIPTION:The ability to accurately and rapidly create piping and instrumentation diagrams (P&ID) is crucial for meeting company and international quality standards.\nIn this ever-changing environment, companies need complete traceability when moving 2D P&ID design into a comprehensive 3D model of a process plant.\nYou will learn:\n- Create and navigate intelligent piping and instrumentation diagrams\n- Add common standard components from a built-in database\n- Generate lists, reports, BOMs and intelligent PDFs for required documentation\n
DTSTART:20200611T130000
DTEND:20200611T140000
DTSTAMP:20260419T213631Z
LOCATION:Online
PRIORITY:5
SEQUENCE:0
SUMMARY;LANGUAGE=es-es:Tecnowebinars.com - :: Intelligent Schematics for Piping and Instrumentation Diagram Design
TRANSP:OPAQUE
UID:d9fa61c42cbba60097c0563af47efc77 Tecnowebinars.com
X-MICROSOFT-CDO-BUSYSTATUS:BUSY
X-MICROSOFT-CDO-IMPORTANCE:1
X-MICROSOFT-DISALLOW-COUNTER:FALSE
X-MS-OLK-ALLOWEXTERNCHECK:TRUE
X-MS-OLK-AUTOFILLLOCATION:FALSE
X-MS-OLK-CONFTYPE:0
BEGIN:VALARM
TRIGGER:-PT1440M
ACTION:DISPLAY
DESCRIPTION:Reminder
END:VALARM
END:VEVENT
END:VCALENDAR
