BEGIN:VCALENDAR
PRODID:-//Microsoft Corporation//Outlook 12.0 MIMEDIR//EN
VERSION:2.0
METHOD:PUBLISH
X-MS-OLK-FORCEINSPECTOROPEN:TRUE
BEGIN:VEVENT
CLASS:PUBLIC
CREATED:20260419T213630Z
DESCRIPTION:In this webinar, we will discuss how you can seamlessly combine multiple design disciplines to deliver the best medical device products to market faster.\nWith ever-evolving complexity and lengthy certification cycles, medical device companies are constantly looking for new and innovative ways to bring their products to market.\nHowever, organizations face numerous internal and external barriers that hinder the design process. Inefficient collaboration tools, cumbersome modeling techniques, and a lack of a total product lifecycle management (PLM) all contribute to increased costs and a slower time to market.\nYou will learn:\n- More design iterations by utilizing the latest design and simulation methods\n- How to take advantage of additive manufacturing solutions to realize new designs\n- How to remove the barriers to innovation and accelerate the product development process\n
DTSTART:20200603T130000
DTEND:20200603T140000
DTSTAMP:20260419T213630Z
LOCATION:Online
PRIORITY:5
SEQUENCE:0
SUMMARY;LANGUAGE=es-es:Tecnowebinars.com - :: Overcome the barriers to innovation with next generation solutions for medical device design
TRANSP:OPAQUE
UID:456195765cf4e8e2148b4146ead409df Tecnowebinars.com
X-MICROSOFT-CDO-BUSYSTATUS:BUSY
X-MICROSOFT-CDO-IMPORTANCE:1
X-MICROSOFT-DISALLOW-COUNTER:FALSE
X-MS-OLK-ALLOWEXTERNCHECK:TRUE
X-MS-OLK-AUTOFILLLOCATION:FALSE
X-MS-OLK-CONFTYPE:0
BEGIN:VALARM
TRIGGER:-PT1440M
ACTION:DISPLAY
DESCRIPTION:Reminder
END:VALARM
END:VEVENT
END:VCALENDAR
