BEGIN:VCALENDAR
PRODID:-//Microsoft Corporation//Outlook 12.0 MIMEDIR//EN
VERSION:2.0
METHOD:PUBLISH
X-MS-OLK-FORCEINSPECTOROPEN:TRUE
BEGIN:VEVENT
CLASS:PUBLIC
CREATED:20260419T213540Z
DESCRIPTION:Learn how to conduct virtual planning, simulation and analysis of production, using rich production digital twins, that are based on a robust digital thread of engineering and production data.\nIn the aerospace and defense industry, aircraft systems are becoming more complex, bids are more challenging and customer priorities are changing. The need for efficiencies through newer technologies, such as composites or additive manufacturing, will continue to grow.\n \nAerospace companies also must manage regulatory requirements to make sure design and manufacturing practices are documented and traceable.\n \nIn this webinar about intelligent manufacturing, you will learn:\n \n- More efficient ways to enhance collaboration between design and manufacturing. The aerospace industry needs a process-driven digital thread approach to include manufacturing engineering in every aspect of program development, from program pursuit through aerospace engineering and aircraft manufacturing. This can drive profitability, reputation and prove the firm’s ability to drive successful program execution.\n \n- How to enable an early involvement of manufacturing engineering in the assessment of design alternatives, and accurate plan for on-time project launch and effective communication with the shop floor are all examples of opportunities for companies to ‘shift left’ the integration of the manufacturing definition in the product development process.\n \n- Plan, optimize and validate your production process, create animated 3D electronic work instructions (EWI) and leverage augmented reality to guide shop floor technicians, share relevant information from the PLM environment to shop floor systems (MES, ERP) and enable a close loop manufacturing using shop floor feedback, to continuously improve your process.\n
DTSTART:20200609T110000
DTEND:20200609T120000
DTSTAMP:20260419T213540Z
LOCATION:Online
PRIORITY:5
SEQUENCE:0
SUMMARY;LANGUAGE=es-es:Tecnowebinars.com - :: Enabling Intelligent Manufacturing through Product Realization in the Aerospace Industry
TRANSP:OPAQUE
UID:48d524a0aaf383c49444e5d4eb4f64fb Tecnowebinars.com
X-MICROSOFT-CDO-BUSYSTATUS:BUSY
X-MICROSOFT-CDO-IMPORTANCE:1
X-MICROSOFT-DISALLOW-COUNTER:FALSE
X-MS-OLK-ALLOWEXTERNCHECK:TRUE
X-MS-OLK-AUTOFILLLOCATION:FALSE
X-MS-OLK-CONFTYPE:0
BEGIN:VALARM
TRIGGER:-PT1440M
ACTION:DISPLAY
DESCRIPTION:Reminder
END:VALARM
END:VEVENT
END:VCALENDAR
