BEGIN:VCALENDAR
PRODID:-//Microsoft Corporation//Outlook 12.0 MIMEDIR//EN
VERSION:2.0
METHOD:PUBLISH
X-MS-OLK-FORCEINSPECTOROPEN:TRUE
BEGIN:VEVENT
CLASS:PUBLIC
CREATED:20260419T231610Z
DESCRIPTION:Conexión Israel te invita a una conferencia magistral desde Israel con dos jugadores clave en el ecosistema de innovación israelí:\n- Daniel Schmit, CEO para América Latina del Instituto Weizmann para las Ciencias, la institución científica con la mejor tasa de transferencia tecnológica del mundo y una de las que está más avanzadas a nivel mundial en la investigación del COVID-19.\n \n- Alan Hofman, Director para América Latina de la Autoridad de Innovación, la entidad pública responsable de fomentar e impulsar el desarrollo de la innovación en Israel, siendo clave en convertir al país en la nación start-up.\n
DTSTART:20200526T163000
DTEND:20200526T173000
DTSTAMP:20260419T231610Z
LOCATION:Online
PRIORITY:5
SEQUENCE:0
SUMMARY;LANGUAGE=es-es:Tecnowebinars.com - :: El modelo israelí: academia y gobierno en el ecosistema de innovación
TRANSP:OPAQUE
UID:6298aaf8a1d6176651505f07021b9aa8 Tecnowebinars.com
X-MICROSOFT-CDO-BUSYSTATUS:BUSY
X-MICROSOFT-CDO-IMPORTANCE:1
X-MICROSOFT-DISALLOW-COUNTER:FALSE
X-MS-OLK-ALLOWEXTERNCHECK:TRUE
X-MS-OLK-AUTOFILLLOCATION:FALSE
X-MS-OLK-CONFTYPE:0
BEGIN:VALARM
TRIGGER:-PT1440M
ACTION:DISPLAY
DESCRIPTION:Reminder
END:VALARM
END:VEVENT
END:VCALENDAR
