BEGIN:VCALENDAR
PRODID:-//Microsoft Corporation//Outlook 12.0 MIMEDIR//EN
VERSION:2.0
METHOD:PUBLISH
X-MS-OLK-FORCEINSPECTOROPEN:TRUE
BEGIN:VEVENT
CLASS:PUBLIC
CREATED:20260419T213539Z
DESCRIPTION:Watch us in this webinar to see how we’re using advanced technologies such as real-time applications and Hikvision thermal camera devices to meet the needs of airports during and after the COVID-19 pandemic.\nWe will introduce our new application for fever detection and infection containment being made by AMORPH and VANTIQ that will help airports worldwide address real-time operational requirements in a changing airport situation due to COVID-19.\n \n
DTSTART:20200616T100000
DTEND:20200616T110000
DTSTAMP:20260419T213539Z
LOCATION:Online
PRIORITY:5
SEQUENCE:0
SUMMARY;LANGUAGE=es-es:Tecnowebinars.com - :: Hikvision: How airports are changing nowadays?
TRANSP:OPAQUE
UID:9b5aec04a541c8c5d47bb875c1419e2d Tecnowebinars.com
X-MICROSOFT-CDO-BUSYSTATUS:BUSY
X-MICROSOFT-CDO-IMPORTANCE:1
X-MICROSOFT-DISALLOW-COUNTER:FALSE
X-MS-OLK-ALLOWEXTERNCHECK:TRUE
X-MS-OLK-AUTOFILLLOCATION:FALSE
X-MS-OLK-CONFTYPE:0
BEGIN:VALARM
TRIGGER:-PT1440M
ACTION:DISPLAY
DESCRIPTION:Reminder
END:VALARM
END:VEVENT
END:VCALENDAR
