BEGIN:VCALENDAR
PRODID:-//Microsoft Corporation//Outlook 12.0 MIMEDIR//EN
VERSION:2.0
METHOD:PUBLISH
X-MS-OLK-FORCEINSPECTOROPEN:TRUE
BEGIN:VEVENT
CLASS:PUBLIC
CREATED:20260419T230809Z
DESCRIPTION:Hikvision - Get to know our newest healthcare solutions.\nIQ Messenger - Smart sensor technology and alarm handling in healthcare.\n \nKepler Vision - Learn everything about KeplerNight Nurse.\n \n
DTSTART:20200525T100000
DTEND:20200525T110000
DTSTAMP:20260419T230809Z
LOCATION:Online
PRIORITY:5
SEQUENCE:0
SUMMARY;LANGUAGE=es-es:Tecnowebinars.com - :: Hikvision: Creating a secure & positive healthcare experience
TRANSP:OPAQUE
UID:d1aab5199b8ebb752b161be77146672a Tecnowebinars.com
X-MICROSOFT-CDO-BUSYSTATUS:BUSY
X-MICROSOFT-CDO-IMPORTANCE:1
X-MICROSOFT-DISALLOW-COUNTER:FALSE
X-MS-OLK-ALLOWEXTERNCHECK:TRUE
X-MS-OLK-AUTOFILLLOCATION:FALSE
X-MS-OLK-CONFTYPE:0
BEGIN:VALARM
TRIGGER:-PT1440M
ACTION:DISPLAY
DESCRIPTION:Reminder
END:VALARM
END:VEVENT
END:VCALENDAR
