BEGIN:VCALENDAR
PRODID:-//Microsoft Corporation//Outlook 12.0 MIMEDIR//EN
VERSION:2.0
METHOD:PUBLISH
X-MS-OLK-FORCEINSPECTOROPEN:TRUE
BEGIN:VEVENT
CLASS:PUBLIC
CREATED:20260419T231636Z
DESCRIPTION:VER VIDEO\nDos scrum masters con experiencia en diferentes sectores nos hablarán sobre la importancia de las Metodologías Ágiles en la vuelta a la normalidad.\nserán 60 minutos donde no sólo tratarán sus experiencias en la aplicación del marco ágil Scrum. También nos darán una idea de los nuevos escenarios y posibilidades en la gestión dinámica de proyectos de cara al proceso de reactivación económica.\nConocer cómo las metodologías ágiles nos pueden ayudar a impulsar nuevas oportunidades en nuestro crecimiento profesional en este nuevo contexto.\nDirigido a:\n          - Personas interesadas en aprender marcos de trabajo ágiles.\n \nVER VIDEO\n \n \n
DTSTART:20200528T170000
DTEND:20200528T180000
DTSTAMP:20260419T231636Z
LOCATION:Online
PRIORITY:5
SEQUENCE:0
SUMMARY;LANGUAGE=es-es:Tecnowebinars.com - :: Scrum: Importancia de las metodologías ágiles en la vuelta a la nueva normalidad
TRANSP:OPAQUE
UID:72aabf399b03a73691b060c450b12db8 Tecnowebinars.com
X-MICROSOFT-CDO-BUSYSTATUS:BUSY
X-MICROSOFT-CDO-IMPORTANCE:1
X-MICROSOFT-DISALLOW-COUNTER:FALSE
X-MS-OLK-ALLOWEXTERNCHECK:TRUE
X-MS-OLK-AUTOFILLLOCATION:FALSE
X-MS-OLK-CONFTYPE:0
BEGIN:VALARM
TRIGGER:-PT1440M
ACTION:DISPLAY
DESCRIPTION:Reminder
END:VALARM
END:VEVENT
END:VCALENDAR
