BEGIN:VCALENDAR
PRODID:-//Microsoft Corporation//Outlook 12.0 MIMEDIR//EN
VERSION:2.0
METHOD:PUBLISH
X-MS-OLK-FORCEINSPECTOROPEN:TRUE
BEGIN:VEVENT
CLASS:PUBLIC
CREATED:20260419T213647Z
DESCRIPTION:Simulation World is a free online event designed to inspire and educate executives, engineers, R&D and manufacturing professionals about the transformative powers of engineering simulation and Ansys.\nTwo Days of Powerful Talks | June 10-11, 2020\nEngage in a full and exhilarating experience including inspirational keynotes from change-making leaders, thought-provoking breakout sessions and expert, hands-on real-time Ansys guidance at the Ask the Experts Bar.\nExplore live chat rooms for spontaneous group discussions and engage in numerous opportunities to network with like-minded professionals.\nTake advantage of the Partner Pavilion to gain insight from highlighted tech partners that are bridging the digital divide.\n
DTSTART:20200611T080000
DTEND:20200611T090000
DTSTAMP:20260419T213647Z
LOCATION:Online
PRIORITY:5
SEQUENCE:0
SUMMARY;LANGUAGE=es-es:Tecnowebinars.com - :: Simulation World 2
TRANSP:OPAQUE
UID:c1ebe5d6aa9095cebc0ca925e6eb3761 Tecnowebinars.com
X-MICROSOFT-CDO-BUSYSTATUS:BUSY
X-MICROSOFT-CDO-IMPORTANCE:1
X-MICROSOFT-DISALLOW-COUNTER:FALSE
X-MS-OLK-ALLOWEXTERNCHECK:TRUE
X-MS-OLK-AUTOFILLLOCATION:FALSE
X-MS-OLK-CONFTYPE:0
BEGIN:VALARM
TRIGGER:-PT1440M
ACTION:DISPLAY
DESCRIPTION:Reminder
END:VALARM
END:VEVENT
END:VCALENDAR
