BEGIN:VCALENDAR
PRODID:-//Microsoft Corporation//Outlook 12.0 MIMEDIR//EN
VERSION:2.0
METHOD:PUBLISH
X-MS-OLK-FORCEINSPECTOROPEN:TRUE
BEGIN:VEVENT
CLASS:PUBLIC
CREATED:20260419T231643Z
DESCRIPTION:Desde arin y Oracle NetSuite, con el objetivo de ayudar a las empresas en sus nuevos desafíos financieros, realizaremos el próximo día 21 de mayo a las 10:00h un webinar sobre la solución Oracle ERP NetSuite.\nOracle NetSuite es la solución Cloud ERP#1  que cubre todas las áreas funcionales de una compañía, estando preparada para el mercado español y cuya implantación es muy rápida y posible en remoto.\n \nEste webinar gratuito tiene por objetivo presentar de manera práctica los distintos beneficios de Oracle NetSuite ERP desde un punto de vista de implantación real.\n \nEsperamos que tu agenda te permita la asistencia porque estamos seguros de que los temas que se van a tratar serán de tu interés. Completa por favor el siguiente formulario para finalizar tu inscripción.\n \nSi además de ti, quieres que cualquier otra persona de tu compañía se una a la sesión, por favor debe inscribirse también a través del formulario.\n
DTSTART:20200521T100000
DTEND:20200521T110000
DTSTAMP:20260419T231643Z
LOCATION:Online
PRIORITY:5
SEQUENCE:0
SUMMARY;LANGUAGE=es-es:Tecnowebinars.com - :: Gestión integral con NetSuite ERP en 10 semanas
TRANSP:OPAQUE
UID:8d62efb3a079cbfc8e168f5ef2d32629 Tecnowebinars.com
X-MICROSOFT-CDO-BUSYSTATUS:BUSY
X-MICROSOFT-CDO-IMPORTANCE:1
X-MICROSOFT-DISALLOW-COUNTER:FALSE
X-MS-OLK-ALLOWEXTERNCHECK:TRUE
X-MS-OLK-AUTOFILLLOCATION:FALSE
X-MS-OLK-CONFTYPE:0
BEGIN:VALARM
TRIGGER:-PT1440M
ACTION:DISPLAY
DESCRIPTION:Reminder
END:VALARM
END:VEVENT
END:VCALENDAR
