BEGIN:VCALENDAR
PRODID:-//Microsoft Corporation//Outlook 12.0 MIMEDIR//EN
VERSION:2.0
METHOD:PUBLISH
X-MS-OLK-FORCEINSPECTOROPEN:TRUE
BEGIN:VEVENT
CLASS:PUBLIC
CREATED:20260419T230717Z
DESCRIPTION:Industrial robotics has been an interesting subject since its rise to popularity in the late 1970s and early ’80s. Innovation never ceases, and recent years have seen many new developments in the field.\nHowever, users are still often overwhelmed by the perceived complexity of industrial robotics. Robot selection is often done by instinct rather than analysis of the potential benefits of different robot types available in the marketplace.\nDuring this webinar, various views and applications will be discussed by the presenters:\n \n- Learn about different robot types.\n- Explore the benefits and limitations of each robot type.\n- Know when to use a specific robot type.\n- Understand the parameters of robotic applications.\n \nWebinar attendees will gain a better understanding of different robot types, which could bring added benefits to their applications.\n
DTSTART:20200520T200000
DTEND:20200520T210000
DTSTAMP:20260419T230717Z
LOCATION:Online
PRIORITY:5
SEQUENCE:0
SUMMARY;LANGUAGE=es-es:Tecnowebinars.com - :: See where robotics could fit in your next project
TRANSP:OPAQUE
UID:0771b3afc6df98983069f00d08e03759 Tecnowebinars.com
X-MICROSOFT-CDO-BUSYSTATUS:BUSY
X-MICROSOFT-CDO-IMPORTANCE:1
X-MICROSOFT-DISALLOW-COUNTER:FALSE
X-MS-OLK-ALLOWEXTERNCHECK:TRUE
X-MS-OLK-AUTOFILLLOCATION:FALSE
X-MS-OLK-CONFTYPE:0
BEGIN:VALARM
TRIGGER:-PT1440M
ACTION:DISPLAY
DESCRIPTION:Reminder
END:VALARM
END:VEVENT
END:VCALENDAR
