BEGIN:VCALENDAR
PRODID:-//Microsoft Corporation//Outlook 12.0 MIMEDIR//EN
VERSION:2.0
METHOD:PUBLISH
X-MS-OLK-FORCEINSPECTOROPEN:TRUE
BEGIN:VEVENT
CLASS:PUBLIC
CREATED:20260419T195939Z
DESCRIPTION:VER VIDEO \nUno de los principales desafíos al comprar software empresarial es asegurarse de pagar un precio justo. Pero, después de todo, ¿el precio que me ofrecen es adecuado?\n¿Cómo es posible comparar el precio que se me solicita? ¿Comparar precios entre proveedores es el punto de partida correcto?\nEn 27 años en el mercado, TEC ha desarrollado una metodología para seleccionar software empresarial para acertar en su inversión.\nAdemás, conseguimos al menos un 25% de ahorro en las ofertas que nos presentan nuestros clientes cuando nos invitan a ayudarlos en la selección. \nVER VIDEO \n¿Quieres saber cómo hacemos esto? Únase a este seminario web.\n \n
DTSTART:20200707T160000
DTEND:20200707T170000
DTSTAMP:20260419T195939Z
LOCATION:Online
PRIORITY:5
SEQUENCE:0
SUMMARY;LANGUAGE=es-es:Tecnowebinars.com - :: Cómo ahorrar un 25% en compras de software
TRANSP:OPAQUE
UID:9019a293bda82bb73ad96bf710335dae Tecnowebinars.com
X-MICROSOFT-CDO-BUSYSTATUS:BUSY
X-MICROSOFT-CDO-IMPORTANCE:1
X-MICROSOFT-DISALLOW-COUNTER:FALSE
X-MS-OLK-ALLOWEXTERNCHECK:TRUE
X-MS-OLK-AUTOFILLLOCATION:FALSE
X-MS-OLK-CONFTYPE:0
BEGIN:VALARM
TRIGGER:-PT1440M
ACTION:DISPLAY
DESCRIPTION:Reminder
END:VALARM
END:VEVENT
END:VCALENDAR
