BEGIN:VCALENDAR
PRODID:-//Microsoft Corporation//Outlook 12.0 MIMEDIR//EN
VERSION:2.0
METHOD:PUBLISH
X-MS-OLK-FORCEINSPECTOROPEN:TRUE
BEGIN:VEVENT
CLASS:PUBLIC
CREATED:20260419T172322Z
DESCRIPTION:Las ofertas de la nube son uno de los factores principales que han impulsado a las compañías a remplazar sus modelos de licencia de software ERP local. ¿Pero es en realidad una oferta ERP en la nube más ventajosa que las de modelos de licencia de software ERP local?\nCómo se crea una base comparativa para ofertas tan diferentes- ¿ERP en la nube vs ERP local? ¿Cuáles son las principales ventajas y desventajas de cada oferta? ¿Cómo escoge cual es la mejor para su negocio?\nHelbert Bello, Consultor senior de selección de software de Technology Evaluation Centers, hablará de cómo puede crear una base comparativa clara para ERP en la nube vs ERP local y decidir que opción es la mejor para su negocio.\n
DTSTART:20200915T160000
DTEND:20200915T173000
DTSTAMP:20260419T172322Z
LOCATION:Online
PRIORITY:5
SEQUENCE:0
SUMMARY;LANGUAGE=es-es:Tecnowebinars.com - :: ERP Onpremise vs ERP en la nube: ¿Cual conviene a tu empresa?
TRANSP:OPAQUE
UID:67b339f5fefa74106fdc01c92f6fa3e0 Tecnowebinars.com
X-MICROSOFT-CDO-BUSYSTATUS:BUSY
X-MICROSOFT-CDO-IMPORTANCE:1
X-MICROSOFT-DISALLOW-COUNTER:FALSE
X-MS-OLK-ALLOWEXTERNCHECK:TRUE
X-MS-OLK-AUTOFILLLOCATION:FALSE
X-MS-OLK-CONFTYPE:0
BEGIN:VALARM
TRIGGER:-PT1440M
ACTION:DISPLAY
DESCRIPTION:Reminder
END:VALARM
END:VEVENT
END:VCALENDAR
